BEGIN:VCALENDAR
VERSION:2.0
PRODID:-//Finley Stadium - ECPv6.15.20//NONSGML v1.0//EN
CALSCALE:GREGORIAN
METHOD:PUBLISH
X-ORIGINAL-URL:https://finleystadium.com
X-WR-CALDESC:Events for Finley Stadium
REFRESH-INTERVAL;VALUE=DURATION:PT1H
X-Robots-Tag:noindex
X-PUBLISHED-TTL:PT1H
BEGIN:VTIMEZONE
TZID:UTC
BEGIN:STANDARD
TZOFFSETFROM:+0000
TZOFFSETTO:+0000
TZNAME:UTC
DTSTART:20250101T000000
END:STANDARD
END:VTIMEZONE
BEGIN:VEVENT
DTSTART;TZID=UTC:20260401T160000
DTEND;TZID=UTC:20260401T173000
DTSTAMP:20260425T032112
CREATED:20251216T211826Z
LAST-MODIFIED:20260206T185116Z
UID:10001730-1775059200-1775064600@finleystadium.com
SUMMARY:Main Street Farmers Market
DESCRIPTION:Click the URL link below for the full list of vendors week to week. The Only Food-Focused Farmers Market in Chattanooga\, TN   LOCAL | SUSTAINABLE | VENDOR RUN   EVERY WEDNESDAY YEAR ROUND
URL:https://finleystadium.com/event/main-street-farmers-market-3-2/2026-04-01/
LOCATION:Finley Stadium | Davenport Field\, 1826 Reggie White Blvd\, Chattanooga\, TN\, 37408\, United States
CATEGORIES:Finley Stadium
ATTACH;FMTTYPE=image/jpeg:https://finleystadium.com/wp-content/uploads/2022/11/main-st-farmers-market-logo-2.jpg
END:VEVENT
END:VCALENDAR