BEGIN:VCALENDAR
VERSION:2.0
PRODID:-//Finley Stadium - ECPv6.15.20//NONSGML v1.0//EN
CALSCALE:GREGORIAN
METHOD:PUBLISH
X-WR-CALNAME:Finley Stadium
X-ORIGINAL-URL:https://finleystadium.com
X-WR-CALDESC:Events for Finley Stadium
REFRESH-INTERVAL;VALUE=DURATION:PT1H
X-Robots-Tag:noindex
X-PUBLISHED-TTL:PT1H
BEGIN:VTIMEZONE
TZID:UTC
BEGIN:STANDARD
TZOFFSETFROM:+0000
TZOFFSETTO:+0000
TZNAME:UTC
DTSTART:20220101T000000
END:STANDARD
END:VTIMEZONE
BEGIN:VEVENT
DTSTART;TZID=UTC:20240901T110000
DTEND;TZID=UTC:20240901T160000
DTSTAMP:20260425T032149
CREATED:20240705T142334Z
LAST-MODIFIED:20240705T142334Z
UID:10000732-1725188400-1725206400@finleystadium.com
SUMMARY:Chattanooga Market
DESCRIPTION:Labor Day weekend fun! We’ll be rounding up local food trucks for a Reggie White Street party! Experience some great local eats and treats\, live music\, and your favorite Market vendors.
URL:https://finleystadium.com/event/chattanooga-market-17/
LOCATION:First Horizon Pavilion\, 1826 Reggie White Blvd\, Chattanooga\, TN\, 37408\, United States
CATEGORIES:Chattanooga Market,First Horizon Pavilion
ATTACH;FMTTYPE=image/jpeg:https://finleystadium.com/wp-content/uploads/2024/07/2024.09.01-Fall-Food-Truck-Rally-2050x780-1.jpeg
END:VEVENT
BEGIN:VEVENT
DTSTART;TZID=UTC:20240825T110000
DTEND;TZID=UTC:20240825T160000
DTSTAMP:20260425T032149
CREATED:20240703T184018Z
LAST-MODIFIED:20240703T184018Z
UID:10000728-1724583600-1724601600@finleystadium.com
SUMMARY:Chattanooga Market
DESCRIPTION:It’s nearing football y’all\, so wear your favorite team jersey this Sunday! Don’t forget your middle and high school teams… And our very own Chattanooga MOCS. Feel like a little orange or crimson? Wear it with pride!
URL:https://finleystadium.com/event/chattanooga-market-16/
LOCATION:First Horizon Pavilion\, 1826 Reggie White Blvd\, Chattanooga\, TN\, 37408\, United States
CATEGORIES:Chattanooga Market,First Horizon Pavilion
ATTACH;FMTTYPE=image/jpeg:https://finleystadium.com/wp-content/uploads/2024/07/2024.08.25-Team-Spirit-Day-2050x780-1.jpeg
END:VEVENT
BEGIN:VEVENT
DTSTART;TZID=UTC:20240818T110000
DTEND;TZID=UTC:20240818T160000
DTSTAMP:20260425T032149
CREATED:20240703T182953Z
LAST-MODIFIED:20240703T182953Z
UID:10000727-1723978800-1723996800@finleystadium.com
SUMMARY:Chattanooga Market
DESCRIPTION:Hop on up to our Lodge Cast Iron Sizzle Stage and belt out your favorite song for your Chattanooga Market friends! We’ll be Karaoke-ing all day with songs from every generation and genre. Bring your friends and kids too\, this fun day is for everyone! Good news\, it’s not a competition\, just your chance to steal the spotlight!
URL:https://finleystadium.com/event/chattanooga-market-15/
LOCATION:First Horizon Pavilion\, 1826 Reggie White Blvd\, Chattanooga\, TN\, 37408\, United States
CATEGORIES:Chattanooga Market,First Horizon Pavilion
ATTACH;FMTTYPE=image/jpeg:https://finleystadium.com/wp-content/uploads/2024/07/2024.08.18-Market-Karaoke-2050x780-1.jpeg
END:VEVENT
BEGIN:VEVENT
DTSTART;TZID=UTC:20240811T110000
DTEND;TZID=UTC:20240811T160000
DTSTAMP:20260425T032149
CREATED:20240703T182337Z
LAST-MODIFIED:20240703T182337Z
UID:10000726-1723374000-1723392000@finleystadium.com
SUMMARY:Chattanooga Market
DESCRIPTION:Enjoy street style entertainment tucked into various corners of the Market this Sunday — tips are appreciated! It’s also still prime produce season and back-to-school means packing healthy lunches for your littles. We’ve got you covered!
URL:https://finleystadium.com/event/chattanooga-market-14/
LOCATION:First Horizon Pavilion\, 1826 Reggie White Blvd\, Chattanooga\, TN\, 37408\, United States
CATEGORIES:Chattanooga Market
ATTACH;FMTTYPE=image/jpeg:https://finleystadium.com/wp-content/uploads/2024/07/2023.08.11-Buskers-Festival-2050x780-1.jpeg
END:VEVENT
BEGIN:VEVENT
DTSTART;TZID=UTC:20240810T180000
DTEND;TZID=UTC:20240810T210000
DTSTAMP:20260425T032149
CREATED:20240703T181955Z
LAST-MODIFIED:20240703T181955Z
UID:10000725-1723312800-1723323600@finleystadium.com
SUMMARY:Chattanooga Margarita Festival
DESCRIPTION:Join us at the First Horizon Pavilion as Chattanooga’s favorite restaurants compete for the title of Best Margarita in town! Work your way through your Sample Passport that includes 10 mini margaritas\, plus enjoy live entertainment by local DJs\, a Margarita Fest photobooth and some of Chattanooga’s tastiest food vendors (food for purchase). Not sure if you like your margs salted\, shaken\, stirred or frozen? Sip the night away and then vote for your favorite. This event supports Chattanooga Market\, so every sip counts.
URL:https://finleystadium.com/event/chattanooga-margarita-festival/
LOCATION:First Horizon Pavilion\, 1826 Reggie White Blvd\, Chattanooga\, TN\, 37408\, United States
CATEGORIES:Chattanooga Market,First Horizon Pavilion
ATTACH;FMTTYPE=image/png:https://finleystadium.com/wp-content/uploads/2024/07/CMFLogowithMarg-e1720030640441.png
END:VEVENT
BEGIN:VEVENT
DTSTART;TZID=UTC:20240804T110000
DTEND;TZID=UTC:20240804T160000
DTSTAMP:20260425T032149
CREATED:20240703T165644Z
LAST-MODIFIED:20240703T165644Z
UID:10000719-1722769200-1722787200@finleystadium.com
SUMMARY:Chattanooga Market
DESCRIPTION:Visit the region’s best farmers and artists market each Sunday\, during season\, from 11:00 am – 4:00 pm in downtown Chattanooga!\n\nChattanooga Market offers a day of family fun: SHOP with nearly 200 farms\, art & craft vendors\, and food artisans. EAT from several local food trucks. SEE live entertainment\, cooking demonstrations\, or other events throughout the season!\n\nWe’ll see you Sunday!
URL:https://finleystadium.com/event/chattanooga-market-13/
LOCATION:First Horizon Pavilion\, 1826 Reggie White Blvd\, Chattanooga\, TN\, 37408\, United States
CATEGORIES:Chattanooga Market
ATTACH;FMTTYPE=image/jpeg:https://finleystadium.com/wp-content/uploads/2024/07/2024.08.04-National-Farmers-Market-Week-2050x780-1.jpeg
END:VEVENT
BEGIN:VEVENT
DTSTART;TZID=UTC:20240728T110000
DTEND;TZID=UTC:20240728T160000
DTSTAMP:20260425T032149
CREATED:20240603T185925Z
LAST-MODIFIED:20240603T185925Z
UID:10000716-1722164400-1722182400@finleystadium.com
SUMMARY:Chattanooga Market
DESCRIPTION:It’s a toe-tappin’\, banjo playin’\, string singing’ mix of country & folk that will get you up and dancing. You can see some of our region’s hottest bluegrass acts during two free performances live on the Lodge Cast Iron Sizzle Stage!\n\nWe’ll have just the right mix too – live music\, local eats\, and cold brews. And don’t miss the season’s best fresh produce at its peak while you visit… It just doesn’t get much better than this!
URL:https://finleystadium.com/event/chattanooga-market-12/
LOCATION:First Horizon Pavilion\, 1826 Reggie White Blvd\, Chattanooga\, TN\, 37408\, United States
CATEGORIES:Chattanooga Market,First Horizon Pavilion
ATTACH;FMTTYPE=image/png:https://finleystadium.com/wp-content/uploads/2024/06/2024.07.28-Chattanooga-Bluegrass.png
END:VEVENT
BEGIN:VEVENT
DTSTART;TZID=UTC:20240721T110000
DTEND;TZID=UTC:20240721T160000
DTSTAMP:20260425T032149
CREATED:20240603T173022Z
LAST-MODIFIED:20240603T173022Z
UID:10000710-1721559600-1721577600@finleystadium.com
SUMMARY:Chattanooga Market
DESCRIPTION:Join us for a live cooking competition between some of Chattanooga’s best chefs!\n\nThe FiveStar Food Fight starts when the competitors arrive early\, just before the Market opens\, taking time to strategically set up their cooking stations equipped with their own knives\, cooking supplies\, and their best game. They will shop that day at the Market for the fresh ingredients they will need to complete their main dish.\n\nWe’ll provide the competitors with a secret ingredient that won’t be revealed until just before the start time!\n\nFrom about 11:00 am until 2:30 pm\, market-goers will watch the chefs demonstrate their culinary skills using FiveStar Ranges and present their dishes to our panel of judges.\n\nIt’s an exciting food event for everyone. See how shopping for local foods can easily\, and affordably\, be turned into something yummy and amazing!
URL:https://finleystadium.com/event/chattanooga-market-10/
LOCATION:First Horizon Pavilion\, 1826 Reggie White Blvd\, Chattanooga\, TN\, 37408\, United States
CATEGORIES:Chattanooga Market,First Horizon Pavilion
ATTACH;FMTTYPE=image/png:https://finleystadium.com/wp-content/uploads/2024/06/2024.07.21-FiveStar-Food-Fight.png
END:VEVENT
BEGIN:VEVENT
DTSTART;TZID=UTC:20240714T110000
DTEND;TZID=UTC:20240714T160000
DTSTAMP:20260425T032149
CREATED:20240602T190648Z
LAST-MODIFIED:20240602T190648Z
UID:10000709-1720954800-1720972800@finleystadium.com
SUMMARY:Chattanooga Market
DESCRIPTION:There’s no better way to celebrate your favorite summertime fruit. Join us for a Bloody Mary sampling event! Spicy\, tangy\, or non-alcoholic\, there are plenty of options to wet your whistle. Purchase a $15 ticket and receive samples from each of FIVE participants. Non alcoholic available upon request. \nProceeds benefit Friends of Finley whose mission is to improve the quality of life of the people of Chattanooga and the surrounding region by providing a versatile facility for community events that are entertaining\, inclusive\, and multicultural. \n  \n**Tickets available at event in the center of The Chattanooga Market on Sunday**
URL:https://finleystadium.com/event/chattanooga-market-9/
LOCATION:First Horizon Pavilion\, 1826 Reggie White Blvd\, Chattanooga\, TN\, 37408\, United States
CATEGORIES:Chattanooga Market,First Horizon Pavilion
ATTACH;FMTTYPE=image/png:https://finleystadium.com/wp-content/uploads/2024/06/2024.07.14-Top-Tomato.png
END:VEVENT
BEGIN:VEVENT
DTSTART;TZID=UTC:20240707T110000
DTEND;TZID=UTC:20240707T160000
DTSTAMP:20260425T032149
CREATED:20240602T190010Z
LAST-MODIFIED:20240602T190736Z
UID:10000708-1720350000-1720368000@finleystadium.com
SUMMARY:Chattanooga Market
DESCRIPTION:The Peach Festival inspires our talented Chattanooga Market vendors to incorporate peach flavors\, smells\, and peachy themes into their offerings today! Folks can enjoy treats such as fresh peach salsa\, peach jams & jellies\, peach pastries\, peach cobbler\, peach candles\, peach lotions… And fresh picked peaches!
URL:https://finleystadium.com/event/chattanooga-market-8/
LOCATION:First Horizon Pavilion\, 1826 Reggie White Blvd\, Chattanooga\, TN\, 37408\, United States
CATEGORIES:Chattanooga Market,First Horizon Pavilion
ATTACH;FMTTYPE=image/png:https://finleystadium.com/wp-content/uploads/2024/06/2024.07.07-Peach-Festival.png
END:VEVENT
BEGIN:VEVENT
DTSTART;TZID=UTC:20240630T110000
DTEND;TZID=UTC:20240630T160000
DTSTAMP:20260425T032149
CREATED:20240529T205812Z
LAST-MODIFIED:20240529T205812Z
UID:10000706-1719745200-1719763200@finleystadium.com
SUMMARY:Chattanooga Market
DESCRIPTION:Happy 4th of July! Blueberries are our firecracker fruit today! We’ll be celebrating with berries galore — and our blueberry pie eating contests! Join our blueberry pie eating contests\, just sign up at the front desk. Contest times are: \n2024 Contest Times TBA
URL:https://finleystadium.com/event/chattanooga-market-7/
LOCATION:First Horizon Pavilion\, 1826 Reggie White Blvd\, Chattanooga\, TN\, 37408\, United States
CATEGORIES:Chattanooga Market,First Horizon Pavilion
ATTACH;FMTTYPE=image/jpeg:https://finleystadium.com/wp-content/uploads/2024/05/ChattMarketRedWhiteBlue.jpeg
END:VEVENT
BEGIN:VEVENT
DTSTART;TZID=UTC:20240623T110000
DTEND;TZID=UTC:20240623T160000
DTSTAMP:20260425T032149
CREATED:20240529T204237Z
LAST-MODIFIED:20240529T205239Z
UID:10000704-1719140400-1719158400@finleystadium.com
SUMMARY:Chattanooga Market
DESCRIPTION:Join us in the ages old celebration of the midsummer solstice! Bring your family and friends to enjoy the longest days of summer at the Chattanooga Market where we’ll be highlighting all the fresh produce nourished by the sun on these extended days.
URL:https://finleystadium.com/event/chattanooga-market-6/
LOCATION:First Horizon Pavilion\, 1826 Reggie White Blvd\, Chattanooga\, TN\, 37408\, United States
CATEGORIES:Chattanooga Market,First Horizon Pavilion
ATTACH;FMTTYPE=image/jpeg:https://finleystadium.com/wp-content/uploads/2024/05/ChattMarketSumSol.jpeg
END:VEVENT
BEGIN:VEVENT
DTSTART;TZID=UTC:20240622T180000
DTEND;TZID=UTC:20240622T210000
DTSTAMP:20260425T032149
CREATED:20240529T205038Z
LAST-MODIFIED:20240529T205038Z
UID:10000705-1719079200-1719090000@finleystadium.com
SUMMARY:Summer Cocktail Festival
DESCRIPTION:It’s for real – we’re bringing back the hottest festival of the summer with a totally rad twist\, featuring seasonal sips 🍹\, tasty eats 🌮\, and ALL the throwback vibes 🛼. Your ticket includes 12 fun-size summer cocktails\, plus access to all the fun and entertainment. Put on your flyest throwback threads and come chillax at First Horizon Pavilion for this bomb.com cocktail fest. \nThis event is 21+ only. Please celebrate responsibly.
URL:https://finleystadium.com/event/summer-cocktail-festival/
LOCATION:First Horizon Pavilion\, 1826 Reggie White Blvd\, Chattanooga\, TN\, 37408\, United States
CATEGORIES:Chattanooga Market,First Horizon Pavilion
ATTACH;FMTTYPE=image/png:https://finleystadium.com/wp-content/uploads/2024/05/CSCFThrowbackLogo.png
END:VEVENT
BEGIN:VEVENT
DTSTART;TZID=UTC:20240616T110000
DTEND;TZID=UTC:20240616T160000
DTSTAMP:20260425T032149
CREATED:20240603T183736Z
LAST-MODIFIED:20240603T183736Z
UID:10000713-1718535600-1718553600@finleystadium.com
SUMMARY:Chattanooga Market
DESCRIPTION:We’ve got you covered for Father’s Day at The Chattanooga Market! Dad will enjoy relaxing to the sounds of local blues musicians on the Lodge Cast Iron Sizzle Stage. You can treat him to lunch at one of our themed food trucks and a craft beer or two. You can shop for a unique handmade gift for Dad too\, with dozens of artists available to you. And\, we’ll have fresh cuts of meat\, farm cheeses\, produce… all the makings for a home cooked dinner later.
URL:https://finleystadium.com/event/chattanooga-market-11/
LOCATION:First Horizon Pavilion\, 1826 Reggie White Blvd\, Chattanooga\, TN\, 37408\, United States
CATEGORIES:Chattanooga Market,First Horizon Pavilion
ATTACH;FMTTYPE=image/png:https://finleystadium.com/wp-content/uploads/2024/06/2024.06.16-Fathers-Day-Blues-Brews.png
END:VEVENT
BEGIN:VEVENT
DTSTART;TZID=UTC:20240609T110000
DTEND;TZID=UTC:20240609T160000
DTSTAMP:20260425T032149
CREATED:20240517T210513Z
LAST-MODIFIED:20240517T210631Z
UID:10000700-1717930800-1717948800@finleystadium.com
SUMMARY:Chattanooga Market
DESCRIPTION:Ice Cream Social
URL:https://finleystadium.com/event/chattanooga-market-5/
LOCATION:First Horizon Pavilion\, 1826 Reggie White Blvd\, Chattanooga\, TN\, 37408\, United States
CATEGORIES:Chattanooga Market
ATTACH;FMTTYPE=image/jpeg:https://finleystadium.com/wp-content/uploads/2024/05/2024.06.09-Ice-Cream-Social.jpg
END:VEVENT
BEGIN:VEVENT
DTSTART;TZID=UTC:20240602T100000
DTEND;TZID=UTC:20240602T160000
DTSTAMP:20260425T032149
CREATED:20240508T160029Z
LAST-MODIFIED:20240508T160029Z
UID:10000695-1717322400-1717344000@finleystadium.com
SUMMARY:Chattanooga Market
DESCRIPTION:Baketacular \nWe’re celebrating our bakers today at the Market. Make your rounds with us and enjoy baked breads\, cupcakes\, pretzels\, cookies\, and even macarons! Look for special offers today from these artisans and join us for a cake walk at 11:30 am and 1:30 pm in front of the Lodge Cast Iron Sizzle Stage.
URL:https://finleystadium.com/event/chattanooga-market-4/
LOCATION:Finley Stadium | Davenport Field\, 1826 Reggie White Blvd\, Chattanooga\, TN\, 37408\, United States
CATEGORIES:Chattanooga Market,First Horizon Pavilion
ATTACH;FMTTYPE=image/png:https://finleystadium.com/wp-content/uploads/2024/05/2024.06.02-Baketacular.png
END:VEVENT
BEGIN:VEVENT
DTSTART;TZID=UTC:20240526T110000
DTEND;TZID=UTC:20240526T160000
DTSTAMP:20260425T032149
CREATED:20240508T155238Z
LAST-MODIFIED:20240508T155354Z
UID:10000694-1716721200-1716739200@finleystadium.com
SUMMARY:Chattanooga Market
DESCRIPTION:Street Food Festival\n\nThe Chattanooga Street Food Festival boasts a gathering of the best food trucks from our area! These food-passionate folks come together in Chattanooga to celebrate a diversity of food that is uniquely theirs by bringing it right to you!\n\nThink donuts\, tacos\, stir-fry\, pizza\, empanadas\, kabobs\, popsicles\, and even healthy options like salads\, juices\, and rice bowls. Wear your stretchy pants and come hungry.\n\nThe Chattanooga Street Food Festival offers your entire family the chance to indulge in a mixture of cultural foods sure to please any taste palette. If you’re a foodie at heart you don’t want to miss out on this event!
URL:https://finleystadium.com/event/chattanooga-market-3/
LOCATION:First Horizon Pavilion\, 1826 Reggie White Blvd\, Chattanooga\, TN\, 37408\, United States
CATEGORIES:Chattanooga Market,First Horizon Pavilion
ATTACH;FMTTYPE=image/png:https://finleystadium.com/wp-content/uploads/2024/05/2024.05.26-Street-Food-Festival-1.png
END:VEVENT
BEGIN:VEVENT
DTSTART;TZID=UTC:20240519T110000
DTEND;TZID=UTC:20240519T160000
DTSTAMP:20260425T032149
CREATED:20240508T154209Z
LAST-MODIFIED:20240508T154209Z
UID:10000692-1716116400-1716134400@finleystadium.com
SUMMARY:Chattanooga Market
DESCRIPTION:Sunday Funday
URL:https://finleystadium.com/event/chattanooga-market-2/
LOCATION:First Horizon Pavilion\, 1826 Reggie White Blvd\, Chattanooga\, TN\, 37408\, United States
CATEGORIES:Chattanooga Market
ATTACH;FMTTYPE=image/png:https://finleystadium.com/wp-content/uploads/2024/05/2024.05.19-Sunday-Funday-1.png
END:VEVENT
BEGIN:VEVENT
DTSTART;TZID=UTC:20240512T110000
DTEND;TZID=UTC:20240512T160000
DTSTAMP:20260425T032149
CREATED:20240508T153833Z
LAST-MODIFIED:20240508T153833Z
UID:10000691-1715511600-1715529600@finleystadium.com
SUMMARY:Chattanooga Market
DESCRIPTION:Mother’s Day Celebration with Acura of Chattanooga
URL:https://finleystadium.com/event/chattanooga-market/
LOCATION:First Horizon Pavilion\, 1826 Reggie White Blvd\, Chattanooga\, TN\, 37408\, United States
CATEGORIES:Chattanooga Market
ATTACH;FMTTYPE=image/png:https://finleystadium.com/wp-content/uploads/2024/05/2024.05.12-Mothers-Day-Celebration-with-Acura-of-Chattanooga-1.png
END:VEVENT
BEGIN:VEVENT
DTSTART;TZID=UTC:20240428T110000
DTEND;TZID=UTC:20240428T160000
DTSTAMP:20260425T032149
CREATED:20240206T150015Z
LAST-MODIFIED:20240206T150015Z
UID:10000317-1714302000-1714320000@finleystadium.com
SUMMARY:Chattanooga Market Opening Weekend
DESCRIPTION:
URL:https://finleystadium.com/event/chattanooga-market-opening-weekend-2/2024-04-28/
LOCATION:First Horizon Pavilion\, 1826 Reggie White Blvd\, Chattanooga\, TN\, 37408\, United States
CATEGORIES:Chattanooga Market,First Horizon Pavilion
ATTACH;FMTTYPE=image/png:https://finleystadium.com/wp-content/uploads/2024/02/Chattanooga-Market-Opening-Weekend.png
END:VEVENT
BEGIN:VEVENT
DTSTART;TZID=UTC:20240427T100000
DTEND;TZID=UTC:20240427T170000
DTSTAMP:20260425T032149
CREATED:20240206T150015Z
LAST-MODIFIED:20240206T150015Z
UID:10000316-1714212000-1714237200@finleystadium.com
SUMMARY:Chattanooga Market Opening Weekend
DESCRIPTION:
URL:https://finleystadium.com/event/chattanooga-market-opening-weekend-2/2024-04-27/
LOCATION:First Horizon Pavilion\, 1826 Reggie White Blvd\, Chattanooga\, TN\, 37408\, United States
CATEGORIES:Chattanooga Market,First Horizon Pavilion
ATTACH;FMTTYPE=image/png:https://finleystadium.com/wp-content/uploads/2024/02/Chattanooga-Market-Opening-Weekend.png
END:VEVENT
BEGIN:VEVENT
DTSTART;TZID=UTC:20231119T110000
DTEND;TZID=UTC:20231119T160000
DTSTAMP:20260425T032149
CREATED:20230221T143403Z
LAST-MODIFIED:20230221T143403Z
UID:10000207-1700391600-1700409600@finleystadium.com
SUMMARY:Thanksgiving Market at the Chattanooga Market
DESCRIPTION:Begin your preparations for this season’s holidays at the Chattanooga Market! We’ll have plenty of local meats\, cheeses\, breads\, produce and homemade/homegrown foods for your family gatherings. Giving unique\, handmade gifts support our local artisan community and this weekend is the kick-off for holiday shopping! It’s also the last chance for market-goers to enjoy us outdoors for the season. \nWe’ll be closed next Sunday for Thanksgiving and then we will be moving indoors to the Chattanooga Convention Center for our Holiday Market the first 3 weekends of December!
URL:https://finleystadium.com/event/thanksgiving-market-at-the-chattanooga-market/
LOCATION:First Horizon Pavilion\, 1826 Reggie White Blvd\, Chattanooga\, TN\, 37408\, United States
CATEGORIES:Chattanooga Market,First Horizon Pavilion
ATTACH;FMTTYPE=image/png:https://finleystadium.com/wp-content/uploads/2023/02/Screen-Shot-2023-02-21-at-9.33.09-AM.png
END:VEVENT
BEGIN:VEVENT
DTSTART;TZID=UTC:20231112T110000
DTEND;TZID=UTC:20231112T160000
DTSTAMP:20260425T032149
CREATED:20230221T143215Z
LAST-MODIFIED:20230221T143809Z
UID:10000206-1699786800-1699804800@finleystadium.com
SUMMARY:Big Band Day at the Chattanooga Market
DESCRIPTION:Come enjoy the music on the Lodge Cast Iron Sizzle Stage for another free performance! The band is well known for a variety of ballroom dance music that includes classic and modern big band\, swing\, Latin\, and waltz tunes. Our Veteran’s Day tradition continues! There will be a Quilts of Valor presentation ceremony at 1:30pm. Thank you for your service!
URL:https://finleystadium.com/event/big-band-day-at-the-chattanooga-market/
LOCATION:First Horizon Pavilion\, 1826 Reggie White Blvd\, Chattanooga\, TN\, 37408\, United States
CATEGORIES:Chattanooga Market,First Horizon Pavilion
ATTACH;FMTTYPE=image/png:https://finleystadium.com/wp-content/uploads/2023/02/Screen-Shot-2023-02-21-at-9.31.46-AM.png
END:VEVENT
BEGIN:VEVENT
DTSTART;TZID=UTC:20231105T110000
DTEND;TZID=UTC:20231105T160000
DTSTAMP:20260425T032149
CREATED:20230221T143050Z
LAST-MODIFIED:20230221T143050Z
UID:10000205-1699182000-1699200000@finleystadium.com
SUMMARY:Chattanooga Beard Contest at the Chattanooga Market
DESCRIPTION:We’ll be supporting you guys who are growing out your beards this November. Together with Moccasin Bend Soap & Beard and 1839 Barber Company\, we’ll be holding an entertaining contest to get your beard some well-deserved attention! Join us at 2:00 pm to watch the fun! Want to enter your devil’s fork or hipster style? Each category winner gets a swag bag of Market goodies\, Moccasin Bend Soap & Beard products\, and 1839 Barber Company services.
URL:https://finleystadium.com/event/chattanooga-beard-contest-at-the-chattanooga-market/
LOCATION:First Horizon Pavilion\, 1826 Reggie White Blvd\, Chattanooga\, TN\, 37408\, United States
CATEGORIES:Chattanooga Market,First Horizon Pavilion
ATTACH;FMTTYPE=image/png:https://finleystadium.com/wp-content/uploads/2023/02/Screen-Shot-2023-02-21-at-9.30.15-AM.png
END:VEVENT
BEGIN:VEVENT
DTSTART;TZID=UTC:20231029T110000
DTEND;TZID=UTC:20231029T160000
DTSTAMP:20260425T032149
CREATED:20230221T142823Z
LAST-MODIFIED:20230221T142823Z
UID:10000204-1698577200-1698595200@finleystadium.com
SUMMARY:The Haunted Market at the Chattanooga Market
DESCRIPTION:Bring your little ghosts and goblins for our annual Trick or Treat and costume parade! There’s no tricks here\, we love seeing your fun and clever costumes—kids and adults! Costume parade at the Lodge Cast Iron Sizzle stage at 2:00 pm!
URL:https://finleystadium.com/event/the-haunted-market-at-the-chattanooga-market/
LOCATION:First Horizon Pavilion\, 1826 Reggie White Blvd\, Chattanooga\, TN\, 37408\, United States
CATEGORIES:Chattanooga Market,First Horizon Pavilion
ATTACH;FMTTYPE=image/png:https://finleystadium.com/wp-content/uploads/2023/02/Screen-Shot-2023-02-21-at-9.27.58-AM.png
END:VEVENT
BEGIN:VEVENT
DTSTART;TZID=UTC:20231022T110000
DTEND;TZID=UTC:20231022T160000
DTSTAMP:20260425T032149
CREATED:20230221T142701Z
LAST-MODIFIED:20230221T142701Z
UID:10000203-1697972400-1697990400@finleystadium.com
SUMMARY:Smart is Cool at the Chattanooga Market
DESCRIPTION:October 22nd is national “Smart is Cool” day and we’ll be celebrating throughout the Market. Grab your kids and join us for a market focused on all things STEM (science\, technology\, engineering\, and math). Spark your imagination with something new to explore for students of all ages.
URL:https://finleystadium.com/event/smart-is-cool-at-the-chattanooga-market/
LOCATION:First Horizon Pavilion\, 1826 Reggie White Blvd\, Chattanooga\, TN\, 37408\, United States
CATEGORIES:Chattanooga Market,First Horizon Pavilion
ATTACH;FMTTYPE=image/png:https://finleystadium.com/wp-content/uploads/2023/02/Screen-Shot-2023-02-21-at-9.26.38-AM.png
END:VEVENT
BEGIN:VEVENT
DTSTART;TZID=UTC:20231015T110000
DTEND;TZID=UTC:20231015T170000
DTSTAMP:20260425T032149
CREATED:20230221T142528Z
LAST-MODIFIED:20230221T142528Z
UID:10000202-1697367600-1697389200@finleystadium.com
SUMMARY:Chattanooga Oktoberfest®
DESCRIPTION:The region’s best family-friendly Oktoberfest celebration! Come join our city celebration where the sights\, smells\, and sounds of German traditions take on a Chattanooga flair. There’s something for everyone at this 2-day festival featuring live entertainment on two stages\, shopping with local artists\, and a chicken dance or two! \nThe festival includes an array of German traditions: Brats and other German-inspired foods\, a biergarten featuring dozens of varieties of local and season craft brews\, and an Oompah Band. Don’t miss our annual Mr. & Ms. Chattanooga Oktoberfest® Contest too at the front stage Saturday evening. Contest open to all ages—just show up dressed in your lederhosen or dirndl! \nChattanooga Oktoberfest® is an annual must-attend festival for locals and tourists alike\, come enjoy this FREE event. German attire highly recommended!
URL:https://finleystadium.com/event/chattanooga-oktoberfest/2023-10-15/
LOCATION:First Horizon Pavilion\, 1826 Reggie White Blvd\, Chattanooga\, TN\, 37408\, United States
CATEGORIES:Chattanooga Market,First Horizon Pavilion
ATTACH;FMTTYPE=image/png:https://finleystadium.com/wp-content/uploads/2023/02/Screen-Shot-2023-02-21-at-9.24.58-AM.png
END:VEVENT
BEGIN:VEVENT
DTSTART;TZID=UTC:20231014T100000
DTEND;TZID=UTC:20231014T200000
DTSTAMP:20260425T032149
CREATED:20230221T142528Z
LAST-MODIFIED:20230221T142528Z
UID:10000201-1697277600-1697313600@finleystadium.com
SUMMARY:Chattanooga Oktoberfest®
DESCRIPTION:The region’s best family-friendly Oktoberfest celebration! Come join our city celebration where the sights\, smells\, and sounds of German traditions take on a Chattanooga flair. There’s something for everyone at this 2-day festival featuring live entertainment on two stages\, shopping with local artists\, and a chicken dance or two! \nThe festival includes an array of German traditions: Brats and other German-inspired foods\, a biergarten featuring dozens of varieties of local and season craft brews\, and an Oompah Band. Don’t miss our annual Mr. & Ms. Chattanooga Oktoberfest® Contest too at the front stage Saturday evening. Contest open to all ages—just show up dressed in your lederhosen or dirndl! \nChattanooga Oktoberfest® is an annual must-attend festival for locals and tourists alike\, come enjoy this FREE event. German attire highly recommended!
URL:https://finleystadium.com/event/chattanooga-oktoberfest/2023-10-14/
LOCATION:First Horizon Pavilion\, 1826 Reggie White Blvd\, Chattanooga\, TN\, 37408\, United States
CATEGORIES:Chattanooga Market,First Horizon Pavilion
ATTACH;FMTTYPE=image/png:https://finleystadium.com/wp-content/uploads/2023/02/Screen-Shot-2023-02-21-at-9.24.58-AM.png
END:VEVENT
BEGIN:VEVENT
DTSTART;TZID=UTC:20231008T110000
DTEND;TZID=UTC:20231008T160000
DTSTAMP:20260425T032149
CREATED:20230221T142214Z
LAST-MODIFIED:20230221T142214Z
UID:10000199-1696762800-1696780800@finleystadium.com
SUMMARY:Erlanger Health Fair at the Chattanooga Market
DESCRIPTION:We’ll be hosting Erlanger Health System today with several of their medical staff on hand to give basic healthcare advice\, offer screenings and to disperse important medical information. It’s a family day you won’t want to miss!
URL:https://finleystadium.com/event/erlanger-health-fair-at-the-chattanooga-market/
LOCATION:First Horizon Pavilion\, 1826 Reggie White Blvd\, Chattanooga\, TN\, 37408\, United States
CATEGORIES:Chattanooga Market,First Horizon Pavilion
ATTACH;FMTTYPE=image/png:https://finleystadium.com/wp-content/uploads/2023/02/Screen-Shot-2023-02-21-at-9.21.49-AM.png
END:VEVENT
BEGIN:VEVENT
DTSTART;TZID=UTC:20231001T110000
DTEND;TZID=UTC:20231001T160000
DTSTAMP:20260425T032149
CREATED:20230221T141613Z
LAST-MODIFIED:20230221T141910Z
UID:10000197-1696158000-1696176000@finleystadium.com
SUMMARY:Scenic City Wings at the Chattanooga Market
DESCRIPTION:Scenic City Wings promises to be a little spicy\, a little messy\, but a whole lot of fun! Patrons can sample the unique tastes of Chattanooga’s best wings from area restaurants in this blazing annual competition and cast their vote for bragging rights to the Scenic City’s Best Wings of 2023. \nLook out\, these folks take their wings super serious so make sure you sample them all…they’re all unique
URL:https://finleystadium.com/event/makers-market-at-the-chattanooga-market/
LOCATION:First Horizon Pavilion\, 1826 Reggie White Blvd\, Chattanooga\, TN\, 37408\, United States
CATEGORIES:Chattanooga Market,First Horizon Pavilion
ATTACH;FMTTYPE=image/png:https://finleystadium.com/wp-content/uploads/2023/02/Screen-Shot-2023-02-21-at-9.18.33-AM.png
END:VEVENT
END:VCALENDAR