BEGIN:VCALENDAR
VERSION:2.0
PRODID:-//Finley Stadium - ECPv6.15.20//NONSGML v1.0//EN
CALSCALE:GREGORIAN
METHOD:PUBLISH
X-WR-CALNAME:Finley Stadium
X-ORIGINAL-URL:https://finleystadium.com
X-WR-CALDESC:Events for Finley Stadium
REFRESH-INTERVAL;VALUE=DURATION:PT1H
X-Robots-Tag:noindex
X-PUBLISHED-TTL:PT1H
BEGIN:VTIMEZONE
TZID:UTC
BEGIN:STANDARD
TZOFFSETFROM:+0000
TZOFFSETTO:+0000
TZNAME:UTC
DTSTART:20240101T000000
END:STANDARD
END:VTIMEZONE
BEGIN:VEVENT
DTSTART;TZID=UTC:20260423T190000
DTEND;TZID=UTC:20260423T210000
DTSTAMP:20260425T030643
CREATED:20260206T211818Z
LAST-MODIFIED:20260210T194908Z
UID:10001814-1776970800-1776978000@finleystadium.com
SUMMARY:The Moth Ball® by CityScope 2026
DESCRIPTION:April 23rd\, 7:00 – 9:00 pm. Purchase your tickets by using the link below! \nChattanooga’s Ultimate Girls’ Night Out! Enjoy great food\, drinks\, and dancing to your favorite throwbacks – all for a great cause! \n\n\n\n\nDust off that wedding\, prom\, or bridesmaid dress for an evening full of food\, fun\, and fashions from the past! \nThe Moth Ball® by CityScope® is now the largest single event attended by women in the Chattanooga area. Enjoy a night filled with complimentary food\, drinks\, and of course\, dancing with your best girlfriends all for a great cause! \nEach year\, the fundraiser benefits a different nonprofit in Hamilton County that supports women in need. Started in 2012\, the event has gifted over $500\,000 to date for the benefit of these local nonprofit organizations. \nIn 2026\, all proceeds will benefit Downside Up\, an organization dedicated to empowering children with disabilities and their families through connection\, creativity\, and community. While the entire family faces unique challenges\, one of Downside Up’s core values is “care for the caretaker\,” with women often assuming the role of primary caregiver. Downside Up’s programs—family camps\, educational classes\, retreat weekends for moms\, and other recreational activities—offer opportunities not only for children to learn and thrive but also for women to rest\, connect\, and build a lasting support network. Funds raised by the Moth Ball® by CityScope® will directly impact women caregivers and their families right here in Chattanooga. \nWHAT? \nFood\, fun & fashions from the past. An event for women to benefit women. \nWHY? \nIt’s a chance to finally wear that wedding dress\, prom dress\, bridesmaid dress\, or any old thing that’s been taking up residence in your closet\, and it’s also a unique opportunity to support a great cause with your friends. \nWHO? \nEvery year\, The Moth Ball® by CityScope® benefits a different nonprofit in Hamilton County that has a positive impact on the lives of women in our community. In 2026\, all proceeds will benefit Downside Up of Chattanooga. \nWHEN? \n7:00-9:00 \n(Doors open at 6:30 p.m.) \nWHERE? \nFirst Horizon Pavilion \n1826 Reggie White Blvd.
URL:https://finleystadium.com/event/the-moth-ball-by-cityscope-2026/
LOCATION:First Horizon Pavilion\, 1826 Reggie White Blvd\, Chattanooga\, TN\, 37408\, United States
ATTACH;FMTTYPE=image/jpeg:https://finleystadium.com/wp-content/uploads/2026/02/Moth-Ball.jpeg
END:VEVENT
BEGIN:VEVENT
DTSTART;TZID=UTC:20260422T160000
DTEND;TZID=UTC:20260422T173000
DTSTAMP:20260425T030643
CREATED:20251216T211826Z
LAST-MODIFIED:20260206T185116Z
UID:10001736-1776873600-1776879000@finleystadium.com
SUMMARY:Main Street Farmers Market
DESCRIPTION:Click the URL link below for the full list of vendors week to week. The Only Food-Focused Farmers Market in Chattanooga\, TN   LOCAL | SUSTAINABLE | VENDOR RUN   EVERY WEDNESDAY YEAR ROUND
URL:https://finleystadium.com/event/main-street-farmers-market-3-2/2026-04-22/
LOCATION:Finley Stadium | Davenport Field\, 1826 Reggie White Blvd\, Chattanooga\, TN\, 37408\, United States
CATEGORIES:Finley Stadium
ATTACH;FMTTYPE=image/jpeg:https://finleystadium.com/wp-content/uploads/2022/11/main-st-farmers-market-logo-2.jpg
END:VEVENT
BEGIN:VEVENT
DTSTART;TZID=UTC:20260419T100000
DTEND;TZID=UTC:20260419T170000
DTSTAMP:20260425T030643
CREATED:20260206T205645Z
LAST-MODIFIED:20260206T205645Z
UID:10001813-1776592800-1776618000@finleystadium.com
SUMMARY:4 Bridges Art Festival
DESCRIPTION:Chattanooga’s Premier Visual Art Event \nApril 18-19 — Saturday 10 AM – 6 PM; Sunday 10 AM – 5 PM \n$6 entry (purchase at the gate); students & children under 18 free \n 
URL:https://finleystadium.com/event/4-bridges-art-festival/2026-04-19/
LOCATION:First Horizon Pavilion\, 1826 Reggie White Blvd\, Chattanooga\, TN\, 37408\, United States
ATTACH;FMTTYPE=image/jpeg:https://finleystadium.com/wp-content/uploads/2025/03/4BAF-2.jpeg
ORGANIZER;CN="Association for Visual Arts":MAILTO:CONTACT@AVARTS.ORG
END:VEVENT
BEGIN:VEVENT
DTSTART;TZID=UTC:20260418T100000
DTEND;TZID=UTC:20260418T180000
DTSTAMP:20260425T030643
CREATED:20260206T205645Z
LAST-MODIFIED:20260206T205645Z
UID:10001812-1776506400-1776535200@finleystadium.com
SUMMARY:4 Bridges Art Festival
DESCRIPTION:Chattanooga’s Premier Visual Art Event \nApril 18-19 — Saturday 10 AM – 6 PM; Sunday 10 AM – 5 PM \n$6 entry (purchase at the gate); students & children under 18 free \n 
URL:https://finleystadium.com/event/4-bridges-art-festival/2026-04-18/
LOCATION:First Horizon Pavilion\, 1826 Reggie White Blvd\, Chattanooga\, TN\, 37408\, United States
ATTACH;FMTTYPE=image/jpeg:https://finleystadium.com/wp-content/uploads/2025/03/4BAF-2.jpeg
ORGANIZER;CN="Association for Visual Arts":MAILTO:CONTACT@AVARTS.ORG
END:VEVENT
BEGIN:VEVENT
DTSTART;TZID=UTC:20260415T183000
DTEND;TZID=UTC:20260415T220000
DTSTAMP:20260425T030643
CREATED:20260407T194307Z
LAST-MODIFIED:20260407T194439Z
UID:10001815-1776277800-1776290400@finleystadium.com
SUMMARY:Chattanooga FC vs. Atlanta United FC 2026 U.S. Open Cup Round of 32
DESCRIPTION:Gates Open @ 6:30 pm & Kickoff @ 7:30 pm
URL:https://finleystadium.com/event/chattanooga-fc-vs-atlanta-united-fc-2026-u-s-open-cup-round-of-32/
LOCATION:Finley Stadium | Davenport Field\, 1826 Reggie White Blvd\, Chattanooga\, TN\, 37408\, United States
CATEGORIES:Chattanooga Football Club
ATTACH;FMTTYPE=image/png:https://finleystadium.com/wp-content/uploads/2026/04/qb7vbaovg8cdcs6spmhy.png
ORGANIZER;CN="Chattanooga Football Club":MAILTO:info@chattanoogafc.com
END:VEVENT
BEGIN:VEVENT
DTSTART;TZID=UTC:20260415T160000
DTEND;TZID=UTC:20260415T173000
DTSTAMP:20260425T030643
CREATED:20251216T211826Z
LAST-MODIFIED:20260206T185116Z
UID:10001734-1776268800-1776274200@finleystadium.com
SUMMARY:Main Street Farmers Market
DESCRIPTION:Click the URL link below for the full list of vendors week to week. The Only Food-Focused Farmers Market in Chattanooga\, TN   LOCAL | SUSTAINABLE | VENDOR RUN   EVERY WEDNESDAY YEAR ROUND
URL:https://finleystadium.com/event/main-street-farmers-market-3-2/2026-04-15/
LOCATION:Finley Stadium | Davenport Field\, 1826 Reggie White Blvd\, Chattanooga\, TN\, 37408\, United States
CATEGORIES:Finley Stadium
ATTACH;FMTTYPE=image/jpeg:https://finleystadium.com/wp-content/uploads/2022/11/main-st-farmers-market-logo-2.jpg
END:VEVENT
BEGIN:VEVENT
DTSTART;TZID=UTC:20260411T180000
DTEND;TZID=UTC:20260411T213000
DTSTAMP:20260425T030643
CREATED:20260206T172835Z
LAST-MODIFIED:20260206T172901Z
UID:10001701-1775930400-1775943000@finleystadium.com
SUMMARY:Chattanooga FC vs. Orlando City B
DESCRIPTION:Gates Open @ 6:00 pm & Kickoff @ 7:00 pm
URL:https://finleystadium.com/event/chattanooga-fc-vs-orlando-city-b-2/
LOCATION:Finley Stadium | Davenport Field\, 1826 Reggie White Blvd\, Chattanooga\, TN\, 37408\, United States
ATTACH;FMTTYPE=image/webp:https://finleystadium.com/wp-content/uploads/2026/02/Orlando-City-B.webp
ORGANIZER;CN="Chattanooga Football Club":MAILTO:info@chattanoogafc.com
END:VEVENT
BEGIN:VEVENT
DTSTART;TZID=UTC:20260411T120000
DTEND;TZID=UTC:20260411T170000
DTSTAMP:20260425T030643
CREATED:20260206T185919Z
LAST-MODIFIED:20260206T204955Z
UID:10001811-1775908800-1775926800@finleystadium.com
SUMMARY:SIP TN Wine Fest
DESCRIPTION:Event Start @ 12:00 pm & Event End @ 5:00 pm \nJoin us in Chattanooga for a day of sipping Tennessee-made wine\, mead\, and cider alongside local food\, artisans\, and live music.
URL:https://finleystadium.com/event/sip-tn-wine-fest/
LOCATION:First Horizon Pavilion\, 1826 Reggie White Blvd\, Chattanooga\, TN\, 37408\, United States
ATTACH;FMTTYPE=image/jpeg:https://finleystadium.com/wp-content/uploads/2026/02/SIP-TN.jpg
END:VEVENT
BEGIN:VEVENT
DTSTART;TZID=UTC:20260408T160000
DTEND;TZID=UTC:20260408T173000
DTSTAMP:20260425T030643
CREATED:20251216T211826Z
LAST-MODIFIED:20260206T185116Z
UID:10001732-1775664000-1775669400@finleystadium.com
SUMMARY:Main Street Farmers Market
DESCRIPTION:Click the URL link below for the full list of vendors week to week. The Only Food-Focused Farmers Market in Chattanooga\, TN   LOCAL | SUSTAINABLE | VENDOR RUN   EVERY WEDNESDAY YEAR ROUND
URL:https://finleystadium.com/event/main-street-farmers-market-3-2/2026-04-08/
LOCATION:Finley Stadium | Davenport Field\, 1826 Reggie White Blvd\, Chattanooga\, TN\, 37408\, United States
CATEGORIES:Finley Stadium
ATTACH;FMTTYPE=image/jpeg:https://finleystadium.com/wp-content/uploads/2022/11/main-st-farmers-market-logo-2.jpg
END:VEVENT
BEGIN:VEVENT
DTSTART;TZID=UTC:20260404T170000
DTEND;TZID=UTC:20260404T213000
DTSTAMP:20260425T030643
CREATED:20260206T184011Z
LAST-MODIFIED:20260206T184400Z
UID:10001717-1775322000-1775338200@finleystadium.com
SUMMARY:Chattanooga Stampede Pro Rodeo
DESCRIPTION:April 3rd & April 4th inside the First Horizon Pavilion \nRodeo Starts @ 7:00pm EST & Gates Open @ 5:00pm EST Friday & Saturday. Click the URL link below to purchase your tickets!
URL:https://finleystadium.com/event/chattanooga-stampede-pro-rodeo/2026-04-04/
LOCATION:First Horizon Pavilion\, 1826 Reggie White Blvd\, Chattanooga\, TN\, 37408\, United States
ATTACH;FMTTYPE=image/jpeg:https://finleystadium.com/wp-content/uploads/2026/02/Chattanooga-Rodeo-.jpeg
END:VEVENT
BEGIN:VEVENT
DTSTART;TZID=UTC:20260403T170000
DTEND;TZID=UTC:20260403T213000
DTSTAMP:20260425T030643
CREATED:20260206T184011Z
LAST-MODIFIED:20260206T184400Z
UID:10001716-1775235600-1775251800@finleystadium.com
SUMMARY:Chattanooga Stampede Pro Rodeo
DESCRIPTION:April 3rd & April 4th inside the First Horizon Pavilion \nRodeo Starts @ 7:00pm EST & Gates Open @ 5:00pm EST Friday & Saturday. Click the URL link below to purchase your tickets!
URL:https://finleystadium.com/event/chattanooga-stampede-pro-rodeo/2026-04-03/
LOCATION:First Horizon Pavilion\, 1826 Reggie White Blvd\, Chattanooga\, TN\, 37408\, United States
ATTACH;FMTTYPE=image/jpeg:https://finleystadium.com/wp-content/uploads/2026/02/Chattanooga-Rodeo-.jpeg
END:VEVENT
BEGIN:VEVENT
DTSTART;TZID=UTC:20260401T160000
DTEND;TZID=UTC:20260401T173000
DTSTAMP:20260425T030643
CREATED:20251216T211826Z
LAST-MODIFIED:20260206T185116Z
UID:10001730-1775059200-1775064600@finleystadium.com
SUMMARY:Main Street Farmers Market
DESCRIPTION:Click the URL link below for the full list of vendors week to week. The Only Food-Focused Farmers Market in Chattanooga\, TN   LOCAL | SUSTAINABLE | VENDOR RUN   EVERY WEDNESDAY YEAR ROUND
URL:https://finleystadium.com/event/main-street-farmers-market-3-2/2026-04-01/
LOCATION:Finley Stadium | Davenport Field\, 1826 Reggie White Blvd\, Chattanooga\, TN\, 37408\, United States
CATEGORIES:Finley Stadium
ATTACH;FMTTYPE=image/jpeg:https://finleystadium.com/wp-content/uploads/2022/11/main-st-farmers-market-logo-2.jpg
END:VEVENT
BEGIN:VEVENT
DTSTART;TZID=UTC:20260328T180000
DTEND;TZID=UTC:20260328T213000
DTSTAMP:20260425T030643
CREATED:20260206T172715Z
LAST-MODIFIED:20260206T172715Z
UID:10001700-1774720800-1774733400@finleystadium.com
SUMMARY:Chattanooga FC vs. Columbus Crew 2
DESCRIPTION:Gates Open @ 6:00 pm & Kickoff @ 7:00 pm
URL:https://finleystadium.com/event/chattanooga-fc-vs-columbus-crew-2/
LOCATION:Finley Stadium | Davenport Field\, 1826 Reggie White Blvd\, Chattanooga\, TN\, 37408\, United States
ATTACH;FMTTYPE=image/webp:https://finleystadium.com/wp-content/uploads/2026/02/CFC-vs.-Columbus-Crew-2.webp
ORGANIZER;CN="Chattanooga Football Club":MAILTO:info@chattanoogafc.com
END:VEVENT
BEGIN:VEVENT
DTSTART;TZID=UTC:20260328T090000
DTEND;TZID=UTC:20260328T140000
DTSTAMP:20260425T030643
CREATED:20260206T182750Z
LAST-MODIFIED:20260206T183357Z
UID:10001715-1774688400-1774706400@finleystadium.com
SUMMARY:TN Wild Ones Native Plant Sale
DESCRIPTION:Event Start @ 9:00 am & Event End @ 2:00 pm \n2026 Spring Plant Sale! \nJoin us for this free event.  A variety of local and regional native plant nurseries will be selling a large selection of plants. \nSome vendors may take pre-orders as well – contact them individually for more info.
URL:https://finleystadium.com/event/tn-wild-ones-native-plant-sale/
LOCATION:First Horizon Pavilion\, 1826 Reggie White Blvd\, Chattanooga\, TN\, 37408\, United States
ATTACH;FMTTYPE=image/gif:https://finleystadium.com/wp-content/uploads/2026/02/TN-Wild-Ones.gif
END:VEVENT
BEGIN:VEVENT
DTSTART;TZID=UTC:20260328T070000
DTEND;TZID=UTC:20260330T120000
DTSTAMP:20260425T030643
CREATED:20260206T182010Z
LAST-MODIFIED:20260206T182446Z
UID:10001714-1774681200-1774872000@finleystadium.com
SUMMARY:Erlanger Chattanooga Marathon Weekend
DESCRIPTION:Sign up today! Click the URL link below for details regarding the Chattanooga Marathon! \n  \n\n\nFriday\nMarch 27\, 2026 \n\n\n3:00pm – 7:00pmExpo / Packet Pickup / Registration if available (First Horizon Pavilion)\n \n\n\n\n\nSaturday\nMarch 28\, 2026 \n\n\n7:00AM – 8:30AMRegistration and packet pick-up for the 5K\n \n9:00AM – 10:00AM5K from First Horizon Pavilion (1 hour time limit)\n \n9:00AM – 2:00PMExpo / Packet Pickup / Registration if available (First Horizon Pavilion)\n \n10:00AM5K Awards (No shipping of awards)\n \n10:45AMKids Race (1 Mile Fun Run) from First Horizon Pavilion\n \n\n\n\n\nSunday\nMarch 29\, 2026 \n\n\n5:30AM – 7:00AMPacket pickup (First Horizon Pavilion)\n \n6:00AM – 7:30AMBag drop at First Horizon Pavilion\n \n7:30AMMarathon\, Marathon Relay and Half Marathon start at First Horizon Pavilion\n \n9:00am – 2:00pmExpo (First Horizon Pavilion)\n \n10:00AMHalf Marathon Awards (No shipping of awards)\n \n12:00PMMarathon and Marathon Relay Awards (No shipping of awards)
URL:https://finleystadium.com/event/erlanger-chattanooga-marathon-weekend/
LOCATION:First Horizon Pavilion\, 1826 Reggie White Blvd\, Chattanooga\, TN\, 37408\, United States
ATTACH;FMTTYPE=image/jpeg:https://finleystadium.com/wp-content/uploads/2026/02/Chattanooga-marathon.jpeg
END:VEVENT
BEGIN:VEVENT
DTSTART;TZID=UTC:20260325T160000
DTEND;TZID=UTC:20260325T173000
DTSTAMP:20260425T030643
CREATED:20251216T211826Z
LAST-MODIFIED:20260206T185116Z
UID:10001728-1774454400-1774459800@finleystadium.com
SUMMARY:Main Street Farmers Market
DESCRIPTION:Click the URL link below for the full list of vendors week to week. The Only Food-Focused Farmers Market in Chattanooga\, TN   LOCAL | SUSTAINABLE | VENDOR RUN   EVERY WEDNESDAY YEAR ROUND
URL:https://finleystadium.com/event/main-street-farmers-market-3-2/2026-03-25/
LOCATION:Finley Stadium | Davenport Field\, 1826 Reggie White Blvd\, Chattanooga\, TN\, 37408\, United States
CATEGORIES:Finley Stadium
ATTACH;FMTTYPE=image/jpeg:https://finleystadium.com/wp-content/uploads/2022/11/main-st-farmers-market-logo-2.jpg
END:VEVENT
BEGIN:VEVENT
DTSTART;TZID=UTC:20260321T120000
DTEND;TZID=UTC:20260321T180000
DTSTAMP:20260425T030643
CREATED:20260206T180707Z
LAST-MODIFIED:20260206T181302Z
UID:10001713-1774094400-1774116000@finleystadium.com
SUMMARY:Riverside 11 Car Show
DESCRIPTION:Gates Open @ 12:00 pm & Event Ends @ 6:00 pm
URL:https://finleystadium.com/event/riverside-11-car-show/
LOCATION:Finley Stadium | Davenport Field\, 1826 Reggie White Blvd\, Chattanooga\, TN\, 37408\, United States
ATTACH;FMTTYPE=image/jpeg:https://finleystadium.com/wp-content/uploads/2026/02/Riverside-11.jpg
END:VEVENT
BEGIN:VEVENT
DTSTART;TZID=UTC:20260320T180000
DTEND;TZID=UTC:20260320T220000
DTSTAMP:20260425T030643
CREATED:20260206T180321Z
LAST-MODIFIED:20260206T181332Z
UID:10001712-1774029600-1774044000@finleystadium.com
SUMMARY:Riverside 11 "The Rehearsal"
DESCRIPTION:Free to the public. Gates Open @ 6:00 pm & Event Ends @ 10:00 pm
URL:https://finleystadium.com/event/riverside-11-the-rehearsal/
LOCATION:Finley Stadium | Davenport Field\, 1826 Reggie White Blvd\, Chattanooga\, TN\, 37408\, United States
ATTACH;FMTTYPE=image/jpeg:https://finleystadium.com/wp-content/uploads/2026/02/Riverside-11.jpg
END:VEVENT
BEGIN:VEVENT
DTSTART;TZID=UTC:20260318T170000
DTEND;TZID=UTC:20260318T210000
DTSTAMP:20260425T030643
CREATED:20260206T172406Z
LAST-MODIFIED:20260206T172527Z
UID:10001699-1773853200-1773867600@finleystadium.com
SUMMARY:Chattanooga FC vs. Kalonji Pro-Profile (U.S. Open Cup)
DESCRIPTION:Gates Open @ 5:00 pm & Kickoff @ 6:00 pm
URL:https://finleystadium.com/event/chattanooga-fc-vs-kalonji-pro-profile-u-s-open-cup/
LOCATION:Finley Stadium | Davenport Field\, 1826 Reggie White Blvd\, Chattanooga\, TN\, 37408\, United States
ATTACH;FMTTYPE=image/webp:https://finleystadium.com/wp-content/uploads/2026/02/CFC-vs.-Kalonji-Pro-Profile.webp
ORGANIZER;CN="Chattanooga Football Club":MAILTO:info@chattanoogafc.com
END:VEVENT
BEGIN:VEVENT
DTSTART;TZID=UTC:20260318T160000
DTEND;TZID=UTC:20260318T173000
DTSTAMP:20260425T030643
CREATED:20251216T211826Z
LAST-MODIFIED:20260206T185116Z
UID:10001726-1773849600-1773855000@finleystadium.com
SUMMARY:Main Street Farmers Market
DESCRIPTION:Click the URL link below for the full list of vendors week to week. The Only Food-Focused Farmers Market in Chattanooga\, TN   LOCAL | SUSTAINABLE | VENDOR RUN   EVERY WEDNESDAY YEAR ROUND
URL:https://finleystadium.com/event/main-street-farmers-market-3-2/2026-03-18/
LOCATION:Finley Stadium | Davenport Field\, 1826 Reggie White Blvd\, Chattanooga\, TN\, 37408\, United States
CATEGORIES:Finley Stadium
ATTACH;FMTTYPE=image/jpeg:https://finleystadium.com/wp-content/uploads/2022/11/main-st-farmers-market-logo-2.jpg
END:VEVENT
BEGIN:VEVENT
DTSTART;TZID=UTC:20260311T160000
DTEND;TZID=UTC:20260311T173000
DTSTAMP:20260425T030643
CREATED:20251216T211826Z
LAST-MODIFIED:20260206T185116Z
UID:10001724-1773244800-1773250200@finleystadium.com
SUMMARY:Main Street Farmers Market
DESCRIPTION:Click the URL link below for the full list of vendors week to week. The Only Food-Focused Farmers Market in Chattanooga\, TN   LOCAL | SUSTAINABLE | VENDOR RUN   EVERY WEDNESDAY YEAR ROUND
URL:https://finleystadium.com/event/main-street-farmers-market-3-2/2026-03-11/
LOCATION:Finley Stadium | Davenport Field\, 1826 Reggie White Blvd\, Chattanooga\, TN\, 37408\, United States
CATEGORIES:Finley Stadium
ATTACH;FMTTYPE=image/jpeg:https://finleystadium.com/wp-content/uploads/2022/11/main-st-farmers-market-logo-2.jpg
END:VEVENT
BEGIN:VEVENT
DTSTART;TZID=UTC:20260308T140000
DTEND;TZID=UTC:20260308T180000
DTSTAMP:20260425T030643
CREATED:20260206T172151Z
LAST-MODIFIED:20260206T172151Z
UID:10001698-1772978400-1772992800@finleystadium.com
SUMMARY:Chattanooga FC vs. CT United FC
DESCRIPTION:Gates Open @ 2:00 pm & Kickoff @ 3:00 pm
URL:https://finleystadium.com/event/chattanooga-fc-vs-ct-united-fc/
LOCATION:Finley Stadium | Davenport Field\, 1826 Reggie White Blvd\, Chattanooga\, TN\, 37408\, United States
ATTACH;FMTTYPE=image/webp:https://finleystadium.com/wp-content/uploads/2026/02/CFC-vs-CT-United-FC.webp
ORGANIZER;CN="Chattanooga Football Club":MAILTO:info@chattanoogafc.com
END:VEVENT
BEGIN:VEVENT
DTSTART;TZID=UTC:20260304T160000
DTEND;TZID=UTC:20260304T173000
DTSTAMP:20260425T030643
CREATED:20251216T211826Z
LAST-MODIFIED:20260206T185116Z
UID:10001722-1772640000-1772645400@finleystadium.com
SUMMARY:Main Street Farmers Market
DESCRIPTION:Click the URL link below for the full list of vendors week to week. The Only Food-Focused Farmers Market in Chattanooga\, TN   LOCAL | SUSTAINABLE | VENDOR RUN   EVERY WEDNESDAY YEAR ROUND
URL:https://finleystadium.com/event/main-street-farmers-market-3-2/2026-03-04/
LOCATION:Finley Stadium | Davenport Field\, 1826 Reggie White Blvd\, Chattanooga\, TN\, 37408\, United States
CATEGORIES:Finley Stadium
ATTACH;FMTTYPE=image/jpeg:https://finleystadium.com/wp-content/uploads/2022/11/main-st-farmers-market-logo-2.jpg
END:VEVENT
BEGIN:VEVENT
DTSTART;TZID=UTC:20260301T140000
DTEND;TZID=UTC:20260301T180000
DTSTAMP:20260425T030643
CREATED:20260206T171845Z
LAST-MODIFIED:20260206T171845Z
UID:10001697-1772373600-1772388000@finleystadium.com
SUMMARY:Chattanooga FC vs. Crown Legacy FC
DESCRIPTION:Gates Open @ 2:00 pm & Kickoff @ 3:00 pm
URL:https://finleystadium.com/event/chattanooga-fc-vs-crown-legacy-fc-2/
LOCATION:Finley Stadium | Davenport Field\, 1826 Reggie White Blvd\, Chattanooga\, TN\, 37408\, United States
ATTACH;FMTTYPE=image/png:https://finleystadium.com/wp-content/uploads/2026/02/Home-Opener.png
ORGANIZER;CN="Chattanooga Football Club":MAILTO:info@chattanoogafc.com
END:VEVENT
BEGIN:VEVENT
DTSTART;TZID=UTC:20260225T160000
DTEND;TZID=UTC:20260225T173000
DTSTAMP:20260425T030643
CREATED:20251216T211826Z
LAST-MODIFIED:20260206T185116Z
UID:10001720-1772035200-1772040600@finleystadium.com
SUMMARY:Main Street Farmers Market
DESCRIPTION:Click the URL link below for the full list of vendors week to week. The Only Food-Focused Farmers Market in Chattanooga\, TN   LOCAL | SUSTAINABLE | VENDOR RUN   EVERY WEDNESDAY YEAR ROUND
URL:https://finleystadium.com/event/main-street-farmers-market-3-2/2026-02-25/
LOCATION:Finley Stadium | Davenport Field\, 1826 Reggie White Blvd\, Chattanooga\, TN\, 37408\, United States
CATEGORIES:Finley Stadium
ATTACH;FMTTYPE=image/jpeg:https://finleystadium.com/wp-content/uploads/2022/11/main-st-farmers-market-logo-2.jpg
END:VEVENT
BEGIN:VEVENT
DTSTART;TZID=UTC:20260218T160000
DTEND;TZID=UTC:20260218T173000
DTSTAMP:20260425T030643
CREATED:20251216T211826Z
LAST-MODIFIED:20260206T185116Z
UID:10001718-1771430400-1771435800@finleystadium.com
SUMMARY:Main Street Farmers Market
DESCRIPTION:Click the URL link below for the full list of vendors week to week. The Only Food-Focused Farmers Market in Chattanooga\, TN   LOCAL | SUSTAINABLE | VENDOR RUN   EVERY WEDNESDAY YEAR ROUND
URL:https://finleystadium.com/event/main-street-farmers-market-3-2/2026-02-18/
LOCATION:Finley Stadium | Davenport Field\, 1826 Reggie White Blvd\, Chattanooga\, TN\, 37408\, United States
CATEGORIES:Finley Stadium
ATTACH;FMTTYPE=image/jpeg:https://finleystadium.com/wp-content/uploads/2022/11/main-st-farmers-market-logo-2.jpg
END:VEVENT
BEGIN:VEVENT
DTSTART;TZID=UTC:20260214T140000
DTEND;TZID=UTC:20260214T180000
DTSTAMP:20260425T030643
CREATED:20260206T170634Z
LAST-MODIFIED:20260206T172006Z
UID:10001696-1771077600-1771092000@finleystadium.com
SUMMARY:Chattanooga FC vs. One Knox (Pre-Season Friendly) (Open to the public)
DESCRIPTION:Gates Open @ 2:00 pm & Kickoff @ 3:00 pm.  Post-mach jersey reveal in the Ultra Club
URL:https://finleystadium.com/event/chattanooga-fc-vs-one-knox-pre-season-friendly-open-to-the-public/
LOCATION:Finley Stadium | Davenport Field\, 1826 Reggie White Blvd\, Chattanooga\, TN\, 37408\, United States
ATTACH;FMTTYPE=image/webp:https://finleystadium.com/wp-content/uploads/2026/02/CFC-vs-One-Knox.webp
ORGANIZER;CN="Chattanooga Football Club":MAILTO:info@chattanoogafc.com
END:VEVENT
BEGIN:VEVENT
DTSTART;TZID=UTC:20260211T160000
DTEND;TZID=UTC:20260211T173000
DTSTAMP:20260425T030643
CREATED:20251216T211826Z
LAST-MODIFIED:20260206T185116Z
UID:10001810-1770825600-1770831000@finleystadium.com
SUMMARY:Main Street Farmers Market
DESCRIPTION:Click the URL link below for the full list of vendors week to week. The Only Food-Focused Farmers Market in Chattanooga\, TN   LOCAL | SUSTAINABLE | VENDOR RUN   EVERY WEDNESDAY YEAR ROUND
URL:https://finleystadium.com/event/main-street-farmers-market-3-2/2026-02-11/
LOCATION:Finley Stadium | Davenport Field\, 1826 Reggie White Blvd\, Chattanooga\, TN\, 37408\, United States
CATEGORIES:Finley Stadium
ATTACH;FMTTYPE=image/jpeg:https://finleystadium.com/wp-content/uploads/2022/11/main-st-farmers-market-logo-2.jpg
END:VEVENT
BEGIN:VEVENT
DTSTART;TZID=UTC:20260207T140000
DTEND;TZID=UTC:20260207T150000
DTSTAMP:20260425T030643
CREATED:20260204T211328Z
LAST-MODIFIED:20260206T171011Z
UID:10001695-1770472800-1770476400@finleystadium.com
SUMMARY:Chattanooga FC vs. Birmingham Legion (Pre-season Friendly) (Season Ticket Holders Only)
DESCRIPTION:Gates Open @ 2:00 pm & Kickoff @ 3:00 pm
URL:https://finleystadium.com/event/chattanooga-fc-vs-birmingham-legion-season-ticket-holder-only-friendly/
LOCATION:Finley Stadium | Davenport Field\, 1826 Reggie White Blvd\, Chattanooga\, TN\, 37408\, United States
CATEGORIES:Chattanooga Football Club
ATTACH;FMTTYPE=image/webp:https://finleystadium.com/wp-content/uploads/2026/02/CFC-Logo-2Color.webp
END:VEVENT
BEGIN:VEVENT
DTSTART;VALUE=DATE:20251206
DTEND;VALUE=DATE:20251207
DTSTAMP:20260425T030643
CREATED:20250702T174949Z
LAST-MODIFIED:20251130T160927Z
UID:10001575-1764979200-1765065599@finleystadium.com
SUMMARY:BlueCross Bowl
DESCRIPTION:TSSAA State Football Championships: \nGates Open @10:00 am \n11:00 AM – Class 4A Championship – Alcoa vs. Pearl Cohn \n3:00 PM – Class 2A Championship – Marion Co. vs. Hutingdon \n7:00 PM – Class 6A Championship – Oakland vs. Ravenwood \nSecurity Protocols \n \n 
URL:https://finleystadium.com/event/bluecross-bowl-3/
LOCATION:Finley Stadium | Davenport Field\, 1826 Reggie White Blvd\, Chattanooga\, TN\, 37408\, United States
CATEGORIES:Davenport Field,Finley Stadium
ATTACH;FMTTYPE=image/png:https://finleystadium.com/wp-content/uploads/2025/06/bcbowl20-standard-300x248-2.png
END:VEVENT
END:VCALENDAR