BEGIN:VCALENDAR
VERSION:2.0
PRODID:-//Finley Stadium - ECPv6.15.20//NONSGML v1.0//EN
CALSCALE:GREGORIAN
METHOD:PUBLISH
X-WR-CALNAME:Finley Stadium
X-ORIGINAL-URL:https://finleystadium.com
X-WR-CALDESC:Events for Finley Stadium
REFRESH-INTERVAL;VALUE=DURATION:PT1H
X-Robots-Tag:noindex
X-PUBLISHED-TTL:PT1H
BEGIN:VTIMEZONE
TZID:UTC
BEGIN:STANDARD
TZOFFSETFROM:+0000
TZOFFSETTO:+0000
TZNAME:UTC
DTSTART:20250101T000000
END:STANDARD
END:VTIMEZONE
BEGIN:VEVENT
DTSTART;TZID=UTC:20260422T160000
DTEND;TZID=UTC:20260422T173000
DTSTAMP:20260425T030503
CREATED:20251216T211826Z
LAST-MODIFIED:20260206T185116Z
UID:10001736-1776873600-1776879000@finleystadium.com
SUMMARY:Main Street Farmers Market
DESCRIPTION:Click the URL link below for the full list of vendors week to week. The Only Food-Focused Farmers Market in Chattanooga\, TN   LOCAL | SUSTAINABLE | VENDOR RUN   EVERY WEDNESDAY YEAR ROUND
URL:https://finleystadium.com/event/main-street-farmers-market-3-2/2026-04-22/
LOCATION:Finley Stadium | Davenport Field\, 1826 Reggie White Blvd\, Chattanooga\, TN\, 37408\, United States
CATEGORIES:Finley Stadium
ATTACH;FMTTYPE=image/jpeg:https://finleystadium.com/wp-content/uploads/2022/11/main-st-farmers-market-logo-2.jpg
END:VEVENT
BEGIN:VEVENT
DTSTART;TZID=UTC:20260423T190000
DTEND;TZID=UTC:20260423T210000
DTSTAMP:20260425T030503
CREATED:20260206T211818Z
LAST-MODIFIED:20260210T194908Z
UID:10001814-1776970800-1776978000@finleystadium.com
SUMMARY:The Moth Ball® by CityScope 2026
DESCRIPTION:April 23rd\, 7:00 – 9:00 pm. Purchase your tickets by using the link below! \nChattanooga’s Ultimate Girls’ Night Out! Enjoy great food\, drinks\, and dancing to your favorite throwbacks – all for a great cause! \n\n\n\n\nDust off that wedding\, prom\, or bridesmaid dress for an evening full of food\, fun\, and fashions from the past! \nThe Moth Ball® by CityScope® is now the largest single event attended by women in the Chattanooga area. Enjoy a night filled with complimentary food\, drinks\, and of course\, dancing with your best girlfriends all for a great cause! \nEach year\, the fundraiser benefits a different nonprofit in Hamilton County that supports women in need. Started in 2012\, the event has gifted over $500\,000 to date for the benefit of these local nonprofit organizations. \nIn 2026\, all proceeds will benefit Downside Up\, an organization dedicated to empowering children with disabilities and their families through connection\, creativity\, and community. While the entire family faces unique challenges\, one of Downside Up’s core values is “care for the caretaker\,” with women often assuming the role of primary caregiver. Downside Up’s programs—family camps\, educational classes\, retreat weekends for moms\, and other recreational activities—offer opportunities not only for children to learn and thrive but also for women to rest\, connect\, and build a lasting support network. Funds raised by the Moth Ball® by CityScope® will directly impact women caregivers and their families right here in Chattanooga. \nWHAT? \nFood\, fun & fashions from the past. An event for women to benefit women. \nWHY? \nIt’s a chance to finally wear that wedding dress\, prom dress\, bridesmaid dress\, or any old thing that’s been taking up residence in your closet\, and it’s also a unique opportunity to support a great cause with your friends. \nWHO? \nEvery year\, The Moth Ball® by CityScope® benefits a different nonprofit in Hamilton County that has a positive impact on the lives of women in our community. In 2026\, all proceeds will benefit Downside Up of Chattanooga. \nWHEN? \n7:00-9:00 \n(Doors open at 6:30 p.m.) \nWHERE? \nFirst Horizon Pavilion \n1826 Reggie White Blvd.
URL:https://finleystadium.com/event/the-moth-ball-by-cityscope-2026/
LOCATION:First Horizon Pavilion\, 1826 Reggie White Blvd\, Chattanooga\, TN\, 37408\, United States
ATTACH;FMTTYPE=image/jpeg:https://finleystadium.com/wp-content/uploads/2026/02/Moth-Ball.jpeg
END:VEVENT
BEGIN:VEVENT
DTSTART;TZID=UTC:20260429T160000
DTEND;TZID=UTC:20260429T173000
DTSTAMP:20260425T030503
CREATED:20251216T211826Z
LAST-MODIFIED:20260206T185116Z
UID:10001738-1777478400-1777483800@finleystadium.com
SUMMARY:Main Street Farmers Market
DESCRIPTION:Click the URL link below for the full list of vendors week to week. The Only Food-Focused Farmers Market in Chattanooga\, TN   LOCAL | SUSTAINABLE | VENDOR RUN   EVERY WEDNESDAY YEAR ROUND
URL:https://finleystadium.com/event/main-street-farmers-market-3-2/2026-04-29/
LOCATION:Finley Stadium | Davenport Field\, 1826 Reggie White Blvd\, Chattanooga\, TN\, 37408\, United States
CATEGORIES:Finley Stadium
ATTACH;FMTTYPE=image/jpeg:https://finleystadium.com/wp-content/uploads/2022/11/main-st-farmers-market-logo-2.jpg
END:VEVENT
BEGIN:VEVENT
DTSTART;TZID=UTC:20260502T180000
DTEND;TZID=UTC:20260502T213000
DTSTAMP:20260425T030503
CREATED:20260206T173005Z
LAST-MODIFIED:20260206T173029Z
UID:10001702-1777744800-1777757400@finleystadium.com
SUMMARY:Chattanooga FC vs. Huntsville City FC
DESCRIPTION:Gates Open @ 6:00 pm & Kickoff @ 7:00 pm
URL:https://finleystadium.com/event/chattanooga-fc-vs-huntsville-city-fc-2/
LOCATION:Finley Stadium | Davenport Field\, 1826 Reggie White Blvd\, Chattanooga\, TN\, 37408\, United States
ATTACH;FMTTYPE=image/webp:https://finleystadium.com/wp-content/uploads/2026/02/Huntsville-FC.webp
ORGANIZER;CN="Chattanooga Football Club":MAILTO:info@chattanoogafc.com
END:VEVENT
BEGIN:VEVENT
DTSTART;TZID=UTC:20260506T160000
DTEND;TZID=UTC:20260506T173000
DTSTAMP:20260425T030503
CREATED:20251216T211826Z
LAST-MODIFIED:20260206T185116Z
UID:10001740-1778083200-1778088600@finleystadium.com
SUMMARY:Main Street Farmers Market
DESCRIPTION:Click the URL link below for the full list of vendors week to week. The Only Food-Focused Farmers Market in Chattanooga\, TN   LOCAL | SUSTAINABLE | VENDOR RUN   EVERY WEDNESDAY YEAR ROUND
URL:https://finleystadium.com/event/main-street-farmers-market-3-2/2026-05-06/
LOCATION:Finley Stadium | Davenport Field\, 1826 Reggie White Blvd\, Chattanooga\, TN\, 37408\, United States
CATEGORIES:Finley Stadium
ATTACH;FMTTYPE=image/jpeg:https://finleystadium.com/wp-content/uploads/2022/11/main-st-farmers-market-logo-2.jpg
END:VEVENT
BEGIN:VEVENT
DTSTART;TZID=UTC:20260513T160000
DTEND;TZID=UTC:20260513T173000
DTSTAMP:20260425T030503
CREATED:20251216T211826Z
LAST-MODIFIED:20260206T185116Z
UID:10001742-1778688000-1778693400@finleystadium.com
SUMMARY:Main Street Farmers Market
DESCRIPTION:Click the URL link below for the full list of vendors week to week. The Only Food-Focused Farmers Market in Chattanooga\, TN   LOCAL | SUSTAINABLE | VENDOR RUN   EVERY WEDNESDAY YEAR ROUND
URL:https://finleystadium.com/event/main-street-farmers-market-3-2/2026-05-13/
LOCATION:Finley Stadium | Davenport Field\, 1826 Reggie White Blvd\, Chattanooga\, TN\, 37408\, United States
CATEGORIES:Finley Stadium
ATTACH;FMTTYPE=image/jpeg:https://finleystadium.com/wp-content/uploads/2022/11/main-st-farmers-market-logo-2.jpg
END:VEVENT
BEGIN:VEVENT
DTSTART;TZID=UTC:20260520T160000
DTEND;TZID=UTC:20260520T173000
DTSTAMP:20260425T030503
CREATED:20251216T211826Z
LAST-MODIFIED:20260206T185116Z
UID:10001744-1779292800-1779298200@finleystadium.com
SUMMARY:Main Street Farmers Market
DESCRIPTION:Click the URL link below for the full list of vendors week to week. The Only Food-Focused Farmers Market in Chattanooga\, TN   LOCAL | SUSTAINABLE | VENDOR RUN   EVERY WEDNESDAY YEAR ROUND
URL:https://finleystadium.com/event/main-street-farmers-market-3-2/2026-05-20/
LOCATION:Finley Stadium | Davenport Field\, 1826 Reggie White Blvd\, Chattanooga\, TN\, 37408\, United States
CATEGORIES:Finley Stadium
ATTACH;FMTTYPE=image/jpeg:https://finleystadium.com/wp-content/uploads/2022/11/main-st-farmers-market-logo-2.jpg
END:VEVENT
BEGIN:VEVENT
DTSTART;TZID=UTC:20260524T140000
DTEND;TZID=UTC:20260524T150000
DTSTAMP:20260425T030503
CREATED:20260206T173202Z
LAST-MODIFIED:20260206T173223Z
UID:10001703-1779631200-1779634800@finleystadium.com
SUMMARY:Chattanooga FC vs. Carolina Core FC
DESCRIPTION:Gates Open @ 2:00 pm & Kickoff @ 3:00 pm
URL:https://finleystadium.com/event/chattanooga-fc-vs-carolina-core-fc-2/
LOCATION:Finley Stadium | Davenport Field\, 1826 Reggie White Blvd\, Chattanooga\, TN\, 37408\, United States
ATTACH;FMTTYPE=image/webp:https://finleystadium.com/wp-content/uploads/2026/02/Carolina-Core-FC.webp
ORGANIZER;CN="Chattanooga Football Club":MAILTO:info@chattanoogafc.com
END:VEVENT
BEGIN:VEVENT
DTSTART;TZID=UTC:20260527T160000
DTEND;TZID=UTC:20260527T173000
DTSTAMP:20260425T030503
CREATED:20251216T211826Z
LAST-MODIFIED:20260206T185116Z
UID:10001746-1779897600-1779903000@finleystadium.com
SUMMARY:Main Street Farmers Market
DESCRIPTION:Click the URL link below for the full list of vendors week to week. The Only Food-Focused Farmers Market in Chattanooga\, TN   LOCAL | SUSTAINABLE | VENDOR RUN   EVERY WEDNESDAY YEAR ROUND
URL:https://finleystadium.com/event/main-street-farmers-market-3-2/2026-05-27/
LOCATION:Finley Stadium | Davenport Field\, 1826 Reggie White Blvd\, Chattanooga\, TN\, 37408\, United States
CATEGORIES:Finley Stadium
ATTACH;FMTTYPE=image/jpeg:https://finleystadium.com/wp-content/uploads/2022/11/main-st-farmers-market-logo-2.jpg
END:VEVENT
BEGIN:VEVENT
DTSTART;TZID=UTC:20260603T160000
DTEND;TZID=UTC:20260603T173000
DTSTAMP:20260425T030503
CREATED:20251216T211826Z
LAST-MODIFIED:20260206T185116Z
UID:10001748-1780502400-1780507800@finleystadium.com
SUMMARY:Main Street Farmers Market
DESCRIPTION:Click the URL link below for the full list of vendors week to week. The Only Food-Focused Farmers Market in Chattanooga\, TN   LOCAL | SUSTAINABLE | VENDOR RUN   EVERY WEDNESDAY YEAR ROUND
URL:https://finleystadium.com/event/main-street-farmers-market-3-2/2026-06-03/
LOCATION:Finley Stadium | Davenport Field\, 1826 Reggie White Blvd\, Chattanooga\, TN\, 37408\, United States
CATEGORIES:Finley Stadium
ATTACH;FMTTYPE=image/jpeg:https://finleystadium.com/wp-content/uploads/2022/11/main-st-farmers-market-logo-2.jpg
END:VEVENT
BEGIN:VEVENT
DTSTART;TZID=UTC:20260606T180000
DTEND;TZID=UTC:20260606T213000
DTSTAMP:20260425T030503
CREATED:20260206T173329Z
LAST-MODIFIED:20260206T173344Z
UID:10001704-1780768800-1780781400@finleystadium.com
SUMMARY:Chattanooga FC vs. Red Bull New York II
DESCRIPTION:Gates Open @ 6:00 pm & Kickoff @ 7:00 pm
URL:https://finleystadium.com/event/chattanooga-fc-vs-red-bull-new-york-ii/
LOCATION:Finley Stadium | Davenport Field\, 1826 Reggie White Blvd\, Chattanooga\, TN\, 37408\, United States
ATTACH;FMTTYPE=image/webp:https://finleystadium.com/wp-content/uploads/2026/02/Red-Bull-New-York-II.webp
ORGANIZER;CN="Chattanooga Football Club":MAILTO:info@chattanoogafc.com
END:VEVENT
BEGIN:VEVENT
DTSTART;TZID=UTC:20260610T160000
DTEND;TZID=UTC:20260610T173000
DTSTAMP:20260425T030503
CREATED:20251216T211826Z
LAST-MODIFIED:20260206T185116Z
UID:10001750-1781107200-1781112600@finleystadium.com
SUMMARY:Main Street Farmers Market
DESCRIPTION:Click the URL link below for the full list of vendors week to week. The Only Food-Focused Farmers Market in Chattanooga\, TN   LOCAL | SUSTAINABLE | VENDOR RUN   EVERY WEDNESDAY YEAR ROUND
URL:https://finleystadium.com/event/main-street-farmers-market-3-2/2026-06-10/
LOCATION:Finley Stadium | Davenport Field\, 1826 Reggie White Blvd\, Chattanooga\, TN\, 37408\, United States
CATEGORIES:Finley Stadium
ATTACH;FMTTYPE=image/jpeg:https://finleystadium.com/wp-content/uploads/2022/11/main-st-farmers-market-logo-2.jpg
END:VEVENT
BEGIN:VEVENT
DTSTART;TZID=UTC:20260617T160000
DTEND;TZID=UTC:20260617T173000
DTSTAMP:20260425T030503
CREATED:20251216T211826Z
LAST-MODIFIED:20260206T185116Z
UID:10001752-1781712000-1781717400@finleystadium.com
SUMMARY:Main Street Farmers Market
DESCRIPTION:Click the URL link below for the full list of vendors week to week. The Only Food-Focused Farmers Market in Chattanooga\, TN   LOCAL | SUSTAINABLE | VENDOR RUN   EVERY WEDNESDAY YEAR ROUND
URL:https://finleystadium.com/event/main-street-farmers-market-3-2/2026-06-17/
LOCATION:Finley Stadium | Davenport Field\, 1826 Reggie White Blvd\, Chattanooga\, TN\, 37408\, United States
CATEGORIES:Finley Stadium
ATTACH;FMTTYPE=image/jpeg:https://finleystadium.com/wp-content/uploads/2022/11/main-st-farmers-market-logo-2.jpg
END:VEVENT
BEGIN:VEVENT
DTSTART;TZID=UTC:20260624T160000
DTEND;TZID=UTC:20260624T173000
DTSTAMP:20260425T030503
CREATED:20251216T211826Z
LAST-MODIFIED:20260206T185116Z
UID:10001754-1782316800-1782322200@finleystadium.com
SUMMARY:Main Street Farmers Market
DESCRIPTION:Click the URL link below for the full list of vendors week to week. The Only Food-Focused Farmers Market in Chattanooga\, TN   LOCAL | SUSTAINABLE | VENDOR RUN   EVERY WEDNESDAY YEAR ROUND
URL:https://finleystadium.com/event/main-street-farmers-market-3-2/2026-06-24/
LOCATION:Finley Stadium | Davenport Field\, 1826 Reggie White Blvd\, Chattanooga\, TN\, 37408\, United States
CATEGORIES:Finley Stadium
ATTACH;FMTTYPE=image/jpeg:https://finleystadium.com/wp-content/uploads/2022/11/main-st-farmers-market-logo-2.jpg
END:VEVENT
BEGIN:VEVENT
DTSTART;TZID=UTC:20260627T180000
DTEND;TZID=UTC:20260627T213000
DTSTAMP:20260425T030503
CREATED:20260206T173508Z
LAST-MODIFIED:20260206T173535Z
UID:10001705-1782583200-1782595800@finleystadium.com
SUMMARY:Chattanooga FC vs. Chicago Fire FC II
DESCRIPTION:Gates Open @ 6:00 pm & Kickoff @ 7:00 pm
URL:https://finleystadium.com/event/chattanooga-fc-vs-chicago-fire-fc-ii/
LOCATION:Finley Stadium | Davenport Field\, 1826 Reggie White Blvd\, Chattanooga\, TN\, 37408\, United States
ATTACH;FMTTYPE=image/webp:https://finleystadium.com/wp-content/uploads/2026/02/CFF-II.webp
ORGANIZER;CN="Chattanooga Football Club":MAILTO:info@chattanoogafc.com
END:VEVENT
BEGIN:VEVENT
DTSTART;TZID=UTC:20260701T160000
DTEND;TZID=UTC:20260701T173000
DTSTAMP:20260425T030503
CREATED:20251216T211826Z
LAST-MODIFIED:20260206T185116Z
UID:10001756-1782921600-1782927000@finleystadium.com
SUMMARY:Main Street Farmers Market
DESCRIPTION:Click the URL link below for the full list of vendors week to week. The Only Food-Focused Farmers Market in Chattanooga\, TN   LOCAL | SUSTAINABLE | VENDOR RUN   EVERY WEDNESDAY YEAR ROUND
URL:https://finleystadium.com/event/main-street-farmers-market-3-2/2026-07-01/
LOCATION:Finley Stadium | Davenport Field\, 1826 Reggie White Blvd\, Chattanooga\, TN\, 37408\, United States
CATEGORIES:Finley Stadium
ATTACH;FMTTYPE=image/jpeg:https://finleystadium.com/wp-content/uploads/2022/11/main-st-farmers-market-logo-2.jpg
END:VEVENT
BEGIN:VEVENT
DTSTART;TZID=UTC:20260704T183000
DTEND;TZID=UTC:20260704T223000
DTSTAMP:20260425T030503
CREATED:20260206T173720Z
LAST-MODIFIED:20260206T173953Z
UID:10001706-1783189800-1783204200@finleystadium.com
SUMMARY:Chattanooga FC vs. Inter Miami CF II
DESCRIPTION:POST MATCH FIREWORK SHOW!! Gates Open @ 6:30 pm & Kickoff @ 7:30 pm
URL:https://finleystadium.com/event/chattanooga-fc-vs-inter-miami-cf-ii/
LOCATION:Finley Stadium | Davenport Field\, 1826 Reggie White Blvd\, Chattanooga\, TN\, 37408\, United States
ATTACH;FMTTYPE=image/webp:https://finleystadium.com/wp-content/uploads/2026/02/Inter-Miami-CF-II.webp
ORGANIZER;CN="Chattanooga Football Club":MAILTO:info@chattanoogafc.com
END:VEVENT
BEGIN:VEVENT
DTSTART;TZID=UTC:20260708T160000
DTEND;TZID=UTC:20260708T173000
DTSTAMP:20260425T030503
CREATED:20251216T211826Z
LAST-MODIFIED:20260206T185116Z
UID:10001758-1783526400-1783531800@finleystadium.com
SUMMARY:Main Street Farmers Market
DESCRIPTION:Click the URL link below for the full list of vendors week to week. The Only Food-Focused Farmers Market in Chattanooga\, TN   LOCAL | SUSTAINABLE | VENDOR RUN   EVERY WEDNESDAY YEAR ROUND
URL:https://finleystadium.com/event/main-street-farmers-market-3-2/2026-07-08/
LOCATION:Finley Stadium | Davenport Field\, 1826 Reggie White Blvd\, Chattanooga\, TN\, 37408\, United States
CATEGORIES:Finley Stadium
ATTACH;FMTTYPE=image/jpeg:https://finleystadium.com/wp-content/uploads/2022/11/main-st-farmers-market-logo-2.jpg
END:VEVENT
BEGIN:VEVENT
DTSTART;TZID=UTC:20260715T160000
DTEND;TZID=UTC:20260715T173000
DTSTAMP:20260425T030503
CREATED:20251216T211826Z
LAST-MODIFIED:20260206T185116Z
UID:10001760-1784131200-1784136600@finleystadium.com
SUMMARY:Main Street Farmers Market
DESCRIPTION:Click the URL link below for the full list of vendors week to week. The Only Food-Focused Farmers Market in Chattanooga\, TN   LOCAL | SUSTAINABLE | VENDOR RUN   EVERY WEDNESDAY YEAR ROUND
URL:https://finleystadium.com/event/main-street-farmers-market-3-2/2026-07-15/
LOCATION:Finley Stadium | Davenport Field\, 1826 Reggie White Blvd\, Chattanooga\, TN\, 37408\, United States
CATEGORIES:Finley Stadium
ATTACH;FMTTYPE=image/jpeg:https://finleystadium.com/wp-content/uploads/2022/11/main-st-farmers-market-logo-2.jpg
END:VEVENT
BEGIN:VEVENT
DTSTART;TZID=UTC:20260718T180000
DTEND;TZID=UTC:20260718T213000
DTSTAMP:20260425T030503
CREATED:20260206T174238Z
LAST-MODIFIED:20260206T174238Z
UID:10001707-1784397600-1784410200@finleystadium.com
SUMMARY:Chattanooga FC vs. Orlando City B
DESCRIPTION:Gates Open @ 6:00 pm & Kickoff @ 7:00 pm
URL:https://finleystadium.com/event/chattanooga-fc-vs-orlando-city-b-3/
LOCATION:Finley Stadium | Davenport Field\, 1826 Reggie White Blvd\, Chattanooga\, TN\, 37408\, United States
ATTACH;FMTTYPE=image/webp:https://finleystadium.com/wp-content/uploads/2026/02/Orlando-City-B.webp
ORGANIZER;CN="Chattanooga Football Club":MAILTO:info@chattanoogafc.com
END:VEVENT
BEGIN:VEVENT
DTSTART;TZID=UTC:20260722T160000
DTEND;TZID=UTC:20260722T173000
DTSTAMP:20260425T030503
CREATED:20251216T211826Z
LAST-MODIFIED:20260206T185116Z
UID:10001762-1784736000-1784741400@finleystadium.com
SUMMARY:Main Street Farmers Market
DESCRIPTION:Click the URL link below for the full list of vendors week to week. The Only Food-Focused Farmers Market in Chattanooga\, TN   LOCAL | SUSTAINABLE | VENDOR RUN   EVERY WEDNESDAY YEAR ROUND
URL:https://finleystadium.com/event/main-street-farmers-market-3-2/2026-07-22/
LOCATION:Finley Stadium | Davenport Field\, 1826 Reggie White Blvd\, Chattanooga\, TN\, 37408\, United States
CATEGORIES:Finley Stadium
ATTACH;FMTTYPE=image/jpeg:https://finleystadium.com/wp-content/uploads/2022/11/main-st-farmers-market-logo-2.jpg
END:VEVENT
BEGIN:VEVENT
DTSTART;TZID=UTC:20260725T180000
DTEND;TZID=UTC:20260725T213000
DTSTAMP:20260425T030503
CREATED:20260206T174510Z
LAST-MODIFIED:20260206T174510Z
UID:10001708-1785002400-1785015000@finleystadium.com
SUMMARY:Chattanooga FC vs. Philadelphia Union II
DESCRIPTION:Gates Open @ 6:00 pm & Kickoff @ 7:00 pm
URL:https://finleystadium.com/event/chattanooga-fc-vs-philadelphia-union-ii/
LOCATION:Finley Stadium | Davenport Field\, 1826 Reggie White Blvd\, Chattanooga\, TN\, 37408\, United States
ATTACH;FMTTYPE=image/webp:https://finleystadium.com/wp-content/uploads/2026/02/Philadelphia-Union-II-.webp
ORGANIZER;CN="Chattanooga Football Club":MAILTO:info@chattanoogafc.com
END:VEVENT
BEGIN:VEVENT
DTSTART;TZID=UTC:20260729T160000
DTEND;TZID=UTC:20260729T173000
DTSTAMP:20260425T030503
CREATED:20251216T211826Z
LAST-MODIFIED:20260206T185116Z
UID:10001764-1785340800-1785346200@finleystadium.com
SUMMARY:Main Street Farmers Market
DESCRIPTION:Click the URL link below for the full list of vendors week to week. The Only Food-Focused Farmers Market in Chattanooga\, TN   LOCAL | SUSTAINABLE | VENDOR RUN   EVERY WEDNESDAY YEAR ROUND
URL:https://finleystadium.com/event/main-street-farmers-market-3-2/2026-07-29/
LOCATION:Finley Stadium | Davenport Field\, 1826 Reggie White Blvd\, Chattanooga\, TN\, 37408\, United States
CATEGORIES:Finley Stadium
ATTACH;FMTTYPE=image/jpeg:https://finleystadium.com/wp-content/uploads/2022/11/main-st-farmers-market-logo-2.jpg
END:VEVENT
BEGIN:VEVENT
DTSTART;TZID=UTC:20260805T160000
DTEND;TZID=UTC:20260805T173000
DTSTAMP:20260425T030503
CREATED:20251216T211826Z
LAST-MODIFIED:20260206T185116Z
UID:10001766-1785945600-1785951000@finleystadium.com
SUMMARY:Main Street Farmers Market
DESCRIPTION:Click the URL link below for the full list of vendors week to week. The Only Food-Focused Farmers Market in Chattanooga\, TN   LOCAL | SUSTAINABLE | VENDOR RUN   EVERY WEDNESDAY YEAR ROUND
URL:https://finleystadium.com/event/main-street-farmers-market-3-2/2026-08-05/
LOCATION:Finley Stadium | Davenport Field\, 1826 Reggie White Blvd\, Chattanooga\, TN\, 37408\, United States
CATEGORIES:Finley Stadium
ATTACH;FMTTYPE=image/jpeg:https://finleystadium.com/wp-content/uploads/2022/11/main-st-farmers-market-logo-2.jpg
END:VEVENT
BEGIN:VEVENT
DTSTART;TZID=UTC:20260808T180000
DTEND;TZID=UTC:20260808T213000
DTSTAMP:20260425T030503
CREATED:20260206T174712Z
LAST-MODIFIED:20260206T174712Z
UID:10001709-1786212000-1786224600@finleystadium.com
SUMMARY:Chattanooga FC vs. Atlanta United 2
DESCRIPTION:Gates Open @ 6:00 pm & Kickoff @ 7:00 pm
URL:https://finleystadium.com/event/chattanooga-fc-vs-atlanta-united-2-2/
LOCATION:Finley Stadium | Davenport Field\, 1826 Reggie White Blvd\, Chattanooga\, TN\, 37408\, United States
ATTACH;FMTTYPE=image/webp:https://finleystadium.com/wp-content/uploads/2026/02/ATL-UNT-2.webp
ORGANIZER;CN="Chattanooga Football Club":MAILTO:info@chattanoogafc.com
END:VEVENT
BEGIN:VEVENT
DTSTART;TZID=UTC:20260812T160000
DTEND;TZID=UTC:20260812T173000
DTSTAMP:20260425T030503
CREATED:20251216T211826Z
LAST-MODIFIED:20260206T185116Z
UID:10001768-1786550400-1786555800@finleystadium.com
SUMMARY:Main Street Farmers Market
DESCRIPTION:Click the URL link below for the full list of vendors week to week. The Only Food-Focused Farmers Market in Chattanooga\, TN   LOCAL | SUSTAINABLE | VENDOR RUN   EVERY WEDNESDAY YEAR ROUND
URL:https://finleystadium.com/event/main-street-farmers-market-3-2/2026-08-12/
LOCATION:Finley Stadium | Davenport Field\, 1826 Reggie White Blvd\, Chattanooga\, TN\, 37408\, United States
CATEGORIES:Finley Stadium
ATTACH;FMTTYPE=image/jpeg:https://finleystadium.com/wp-content/uploads/2022/11/main-st-farmers-market-logo-2.jpg
END:VEVENT
BEGIN:VEVENT
DTSTART;TZID=UTC:20260819T160000
DTEND;TZID=UTC:20260819T173000
DTSTAMP:20260425T030503
CREATED:20251216T211826Z
LAST-MODIFIED:20260206T185116Z
UID:10001770-1787155200-1787160600@finleystadium.com
SUMMARY:Main Street Farmers Market
DESCRIPTION:Click the URL link below for the full list of vendors week to week. The Only Food-Focused Farmers Market in Chattanooga\, TN   LOCAL | SUSTAINABLE | VENDOR RUN   EVERY WEDNESDAY YEAR ROUND
URL:https://finleystadium.com/event/main-street-farmers-market-3-2/2026-08-19/
LOCATION:Finley Stadium | Davenport Field\, 1826 Reggie White Blvd\, Chattanooga\, TN\, 37408\, United States
CATEGORIES:Finley Stadium
ATTACH;FMTTYPE=image/jpeg:https://finleystadium.com/wp-content/uploads/2022/11/main-st-farmers-market-logo-2.jpg
END:VEVENT
BEGIN:VEVENT
DTSTART;TZID=UTC:20260826T160000
DTEND;TZID=UTC:20260826T173000
DTSTAMP:20260425T030503
CREATED:20251216T211826Z
LAST-MODIFIED:20260206T185116Z
UID:10001772-1787760000-1787765400@finleystadium.com
SUMMARY:Main Street Farmers Market
DESCRIPTION:Click the URL link below for the full list of vendors week to week. The Only Food-Focused Farmers Market in Chattanooga\, TN   LOCAL | SUSTAINABLE | VENDOR RUN   EVERY WEDNESDAY YEAR ROUND
URL:https://finleystadium.com/event/main-street-farmers-market-3-2/2026-08-26/
LOCATION:Finley Stadium | Davenport Field\, 1826 Reggie White Blvd\, Chattanooga\, TN\, 37408\, United States
CATEGORIES:Finley Stadium
ATTACH;FMTTYPE=image/jpeg:https://finleystadium.com/wp-content/uploads/2022/11/main-st-farmers-market-logo-2.jpg
END:VEVENT
BEGIN:VEVENT
DTSTART;TZID=UTC:20260829T180000
DTEND;TZID=UTC:20260829T213000
DTSTAMP:20260425T030503
CREATED:20260206T174845Z
LAST-MODIFIED:20260206T174845Z
UID:10001710-1788026400-1788039000@finleystadium.com
SUMMARY:Chattanooga FC vs. Carolina Core FC
DESCRIPTION:Gates Open @ 6:00 pm & Kickoff @ 7:00 pm
URL:https://finleystadium.com/event/chattanooga-fc-vs-carolina-core-fc-3/
LOCATION:Finley Stadium | Davenport Field\, 1826 Reggie White Blvd\, Chattanooga\, TN\, 37408\, United States
ATTACH;FMTTYPE=image/webp:https://finleystadium.com/wp-content/uploads/2026/02/Carolina-Core-FC.webp
ORGANIZER;CN="Chattanooga Football Club":MAILTO:info@chattanoogafc.com
END:VEVENT
BEGIN:VEVENT
DTSTART;TZID=UTC:20260902T160000
DTEND;TZID=UTC:20260902T173000
DTSTAMP:20260425T030503
CREATED:20251216T211826Z
LAST-MODIFIED:20260206T185116Z
UID:10001774-1788364800-1788370200@finleystadium.com
SUMMARY:Main Street Farmers Market
DESCRIPTION:Click the URL link below for the full list of vendors week to week. The Only Food-Focused Farmers Market in Chattanooga\, TN   LOCAL | SUSTAINABLE | VENDOR RUN   EVERY WEDNESDAY YEAR ROUND
URL:https://finleystadium.com/event/main-street-farmers-market-3-2/2026-09-02/
LOCATION:Finley Stadium | Davenport Field\, 1826 Reggie White Blvd\, Chattanooga\, TN\, 37408\, United States
CATEGORIES:Finley Stadium
ATTACH;FMTTYPE=image/jpeg:https://finleystadium.com/wp-content/uploads/2022/11/main-st-farmers-market-logo-2.jpg
END:VEVENT
END:VCALENDAR