BEGIN:VCALENDAR
VERSION:2.0
PRODID:-//Finley Stadium - ECPv6.15.20//NONSGML v1.0//EN
CALSCALE:GREGORIAN
METHOD:PUBLISH
X-WR-CALNAME:Finley Stadium
X-ORIGINAL-URL:https://finleystadium.com
X-WR-CALDESC:Events for Finley Stadium
REFRESH-INTERVAL;VALUE=DURATION:PT1H
X-Robots-Tag:noindex
X-PUBLISHED-TTL:PT1H
BEGIN:VTIMEZONE
TZID:UTC
BEGIN:STANDARD
TZOFFSETFROM:+0000
TZOFFSETTO:+0000
TZNAME:UTC
DTSTART:20230101T000000
END:STANDARD
END:VTIMEZONE
BEGIN:VEVENT
DTSTART;TZID=UTC:20250726T180000
DTEND;TZID=UTC:20250726T213000
DTSTAMP:20260424T173517
CREATED:20250417T203249Z
LAST-MODIFIED:20250417T203258Z
UID:10001501-1753552800-1753565400@finleystadium.com
SUMMARY:Chattanooga FC vs. Crown Legacy FC
DESCRIPTION:Kickoff @ 7:00pm EST & Gates Open @ 6:00pm EST
URL:https://finleystadium.com/event/chattanooga-fc-vs-crown-legacy/
LOCATION:Finley Stadium | Davenport Field\, 1826 Reggie White Blvd\, Chattanooga\, TN\, 37408\, United States
CATEGORIES:Chattanooga Football Club,Davenport Field,Finley Stadium
ATTACH;FMTTYPE=image/png:https://finleystadium.com/wp-content/uploads/2025/04/Crown-Legacy.png
ORGANIZER;CN="Chattanooga Football Club":MAILTO:info@chattanoogafc.com
END:VEVENT
BEGIN:VEVENT
DTSTART;TZID=UTC:20250719T180000
DTEND;TZID=UTC:20250719T213000
DTSTAMP:20260424T173517
CREATED:20250417T203002Z
LAST-MODIFIED:20250417T203002Z
UID:10001500-1752948000-1752960600@finleystadium.com
SUMMARY:Chattanooga FC vs. Inter Miami II
DESCRIPTION:Kickoff @ 7:00pm EST & Gates Open 6:00pm EST
URL:https://finleystadium.com/event/chattanooga-fc-vs-inter-miami-ii-2/
LOCATION:Finley Stadium | Davenport Field\, 1826 Reggie White Blvd\, Chattanooga\, TN\, 37408\, United States
CATEGORIES:Chattanooga Football Club,Davenport Field,Finley Stadium
ATTACH;FMTTYPE=image/png:https://finleystadium.com/wp-content/uploads/2025/04/Inter-Miami-7.19.png
ORGANIZER;CN="Chattanooga Football Club":MAILTO:info@chattanoogafc.com
END:VEVENT
BEGIN:VEVENT
DTSTART;TZID=UTC:20250705T180000
DTEND;TZID=UTC:20250705T213000
DTSTAMP:20260424T173517
CREATED:20250417T202619Z
LAST-MODIFIED:20250417T202642Z
UID:10001499-1751738400-1751751000@finleystadium.com
SUMMARY:Chattanooga FC vs. Chicago Fire II
DESCRIPTION:Kickoff @ 7:00pm EST & Gates Open @ 6:00pm EST
URL:https://finleystadium.com/event/chattanooga-fc-vs-chicago-fire/
LOCATION:Finley Stadium | Davenport Field\, 1826 Reggie White Blvd\, Chattanooga\, TN\, 37408\, United States
CATEGORIES:Chattanooga Football Club,Davenport Field,Finley Stadium
ATTACH;FMTTYPE=image/png:https://finleystadium.com/wp-content/uploads/2025/04/Chicago-Fire-.png
ORGANIZER;CN="Chattanooga Football Club":MAILTO:info@chattanoogafc.com
END:VEVENT
BEGIN:VEVENT
DTSTART;TZID=UTC:20250702T180000
DTEND;TZID=UTC:20250702T213000
DTSTAMP:20260424T173517
CREATED:20250702T155730Z
LAST-MODIFIED:20250702T155730Z
UID:10001572-1751479200-1751491800@finleystadium.com
SUMMARY:CFC Women vs. Nashville Rhythm
DESCRIPTION:Gate Open @ 6:00 pm \nKickoff @ 7:00 pm
URL:https://finleystadium.com/event/cfc-women-vs-nashville-rhythm-2/
LOCATION:Finley Stadium | Davenport Field\, 1826 Reggie White Blvd\, Chattanooga\, TN\, 37408\, United States
CATEGORIES:Davenport Field,Finley Stadium
ATTACH;FMTTYPE=image/png:https://finleystadium.com/wp-content/uploads/2025/07/kv0diu9ti8xmw8kxagkd.png
ORGANIZER;CN="Chattanooga Football Club":MAILTO:info@chattanoogafc.com
END:VEVENT
BEGIN:VEVENT
DTSTART;TZID=UTC:20250621T180000
DTEND;TZID=UTC:20250621T213000
DTSTAMP:20260424T173517
CREATED:20250417T201904Z
LAST-MODIFIED:20250417T201904Z
UID:10001498-1750528800-1750541400@finleystadium.com
SUMMARY:Chattanooga FC vs. FC Cincinnati
DESCRIPTION:Kickoff @ 7:00pm EST & Gates Open @ 6:00pm EST
URL:https://finleystadium.com/event/chattanooga-fc-vs-fc-cincinnati/
LOCATION:Finley Stadium | Davenport Field\, 1826 Reggie White Blvd\, Chattanooga\, TN\, 37408\, United States
CATEGORIES:Chattanooga Football Club,Davenport Field,Finley Stadium
ATTACH;FMTTYPE=image/png:https://finleystadium.com/wp-content/uploads/2025/04/Cincinnati-FC.png
ORGANIZER;CN="Chattanooga Football Club":MAILTO:info@chattanoogafc.com
END:VEVENT
BEGIN:VEVENT
DTSTART;TZID=UTC:20250621T113000
DTEND;TZID=UTC:20250621T150000
DTSTAMP:20260424T173517
CREATED:20250620T145202Z
LAST-MODIFIED:20250620T145202Z
UID:10001545-1750505400-1750518000@finleystadium.com
SUMMARY:Tennessee-Georgia All-Star Soccer Game
DESCRIPTION:Girls All-Star Game 11:30am | Boys All-Star Game 1:30pm
URL:https://finleystadium.com/event/tennessee-georgia-all-star-soccer-game/
LOCATION:Finley Stadium | Davenport Field\, 1826 Reggie White Blvd\, Chattanooga\, TN\, 37408\, United States
CATEGORIES:Chattanooga Football Club,Davenport Field,Finley Stadium
ATTACH;FMTTYPE=image/jpeg:https://finleystadium.com/wp-content/uploads/2025/06/CFCxFinley.jpg
ORGANIZER;CN="Chattanooga Football Club":MAILTO:info@chattanoogafc.com
END:VEVENT
BEGIN:VEVENT
DTSTART;TZID=UTC:20250614T180000
DTEND;TZID=UTC:20250614T210000
DTSTAMP:20260424T173517
CREATED:20250510T211418Z
LAST-MODIFIED:20250510T211418Z
UID:10001511-1749924000-1749934800@finleystadium.com
SUMMARY:Chattanooga FC Women vs. Atlanta United Fire
DESCRIPTION:Kickoff @ 7:00pm and Gates Open @ 6:00pm
URL:https://finleystadium.com/event/chattanooga-fc-women-vs-atlanta-united-fire/
LOCATION:Finley Stadium | Davenport Field\, 1826 Reggie White Blvd\, Chattanooga\, TN\, 37408\, United States
CATEGORIES:Chattanooga Football Club,Finley Stadium
ATTACH;FMTTYPE=image/png:https://finleystadium.com/wp-content/uploads/2025/05/CFC-W.-6.14.png
ORGANIZER;CN="Chattanooga Football Club":MAILTO:info@chattanoogafc.com
END:VEVENT
BEGIN:VEVENT
DTSTART;TZID=UTC:20250607T180000
DTEND;TZID=UTC:20250607T213000
DTSTAMP:20260424T173517
CREATED:20250417T201607Z
LAST-MODIFIED:20250417T201607Z
UID:10001497-1749319200-1749331800@finleystadium.com
SUMMARY:Chattanooga FC vs. Inter Miami II
DESCRIPTION:Kickoff @ 7:00pm EST & Gates Open @ 6:00pm EST
URL:https://finleystadium.com/event/chattanooga-fc-vs-inter-miami-ii/
LOCATION:Finley Stadium | Davenport Field\, 1826 Reggie White Blvd\, Chattanooga\, TN\, 37408\, United States
CATEGORIES:Chattanooga Football Club,Davenport Field,Finley Stadium
ATTACH;FMTTYPE=image/png:https://finleystadium.com/wp-content/uploads/2025/04/Inter-Miami.png
ORGANIZER;CN="Chattanooga Football Club":MAILTO:info@chattanoogafc.com
END:VEVENT
BEGIN:VEVENT
DTSTART;TZID=UTC:20250603T180000
DTEND;TZID=UTC:20250603T210000
DTSTAMP:20260424T173517
CREATED:20250510T211241Z
LAST-MODIFIED:20250510T211241Z
UID:10001510-1748973600-1748984400@finleystadium.com
SUMMARY:Chattanooga FC Women vs. Decatur FC Women
DESCRIPTION:Kickoff @ 7:00pm & Gates Open @ 6:00pm
URL:https://finleystadium.com/event/chattanooga-fc-women-vs-decatur-fc-women/
LOCATION:Finley Stadium | Davenport Field\, 1826 Reggie White Blvd\, Chattanooga\, TN\, 37408\, United States
CATEGORIES:Chattanooga Football Club,Finley Stadium
ATTACH;FMTTYPE=image/png:https://finleystadium.com/wp-content/uploads/2025/05/CFC-W-6.3.png
ORGANIZER;CN="Chattanooga Football Club":MAILTO:info@chattanoogafc.com
END:VEVENT
BEGIN:VEVENT
DTSTART;TZID=UTC:20250530T180000
DTEND;TZID=UTC:20250530T210000
DTSTAMP:20260424T173517
CREATED:20250510T211025Z
LAST-MODIFIED:20250510T212433Z
UID:10001509-1748628000-1748638800@finleystadium.com
SUMMARY:Chattanooga FC Women vs. Georgia Impact
DESCRIPTION:Kickoff @ 7:00pm & Gates Open @ 6:00pm
URL:https://finleystadium.com/event/chattanooga-fc-women-2/
LOCATION:Finley Stadium | Davenport Field\, 1826 Reggie White Blvd\, Chattanooga\, TN\, 37408\, United States
CATEGORIES:Chattanooga Football Club,Finley Stadium
ATTACH;FMTTYPE=image/png:https://finleystadium.com/wp-content/uploads/2025/05/CFC-W-5.30.png
ORGANIZER;CN="Chattanooga Football Club":MAILTO:info@chattanoogafc.com
END:VEVENT
BEGIN:VEVENT
DTSTART;TZID=UTC:20250524T180000
DTEND;TZID=UTC:20250524T213000
DTSTAMP:20260424T173517
CREATED:20250417T191932Z
LAST-MODIFIED:20250417T195800Z
UID:10001495-1748109600-1748122200@finleystadium.com
SUMMARY:Chattanooga FC vs New England Revolution II
DESCRIPTION:Kickoff @ 7:00pm EST & Gates Open @ 6:00pm EST
URL:https://finleystadium.com/event/chattanooga-fc-vs-union-2/
LOCATION:Finley Stadium | Davenport Field\, 1826 Reggie White Blvd\, Chattanooga\, TN\, 37408\, United States
CATEGORIES:Chattanooga Football Club,Davenport Field,Finley Stadium
ATTACH;FMTTYPE=image/png:https://finleystadium.com/wp-content/uploads/2025/04/NE-Revolution-II.png
ORGANIZER;CN="Chattanooga Football Club":MAILTO:info@chattanoogafc.com
END:VEVENT
BEGIN:VEVENT
DTSTART;TZID=UTC:20250523T180000
DTEND;TZID=UTC:20250523T210000
DTSTAMP:20260424T173517
CREATED:20250510T210910Z
LAST-MODIFIED:20250510T211534Z
UID:10001508-1748023200-1748034000@finleystadium.com
SUMMARY:Chattanooga FC Women vs. United Futbol Academy
DESCRIPTION:Kickoff @ 7:00pm & Gates Open @ 6:00pm
URL:https://finleystadium.com/event/chattanooga-fc-women/
LOCATION:Finley Stadium | Davenport Field\, 1826 Reggie White Blvd\, Chattanooga\, TN\, 37408\, United States
CATEGORIES:Chattanooga Football Club,Finley Stadium
ATTACH;FMTTYPE=image/png:https://finleystadium.com/wp-content/uploads/2025/05/CFC-W-5.23.png
ORGANIZER;CN="Chattanooga Football Club":MAILTO:info@chattanoogafc.com
END:VEVENT
BEGIN:VEVENT
DTSTART;TZID=UTC:20250503T180000
DTEND;TZID=UTC:20250503T213000
DTSTAMP:20260424T173517
CREATED:20250417T200129Z
LAST-MODIFIED:20250428T135512Z
UID:10001496-1746295200-1746307800@finleystadium.com
SUMMARY:Chattanooga FC vs. Philadelphia Union 2
DESCRIPTION:Kickoff @ 7:00pm EST & Gates Open @ 6:00pm EST
URL:https://finleystadium.com/event/chattanooga-fc-vs-union-2-2/
LOCATION:Finley Stadium | Davenport Field\, 1826 Reggie White Blvd\, Chattanooga\, TN\, 37408\, United States
CATEGORIES:Chattanooga Football Club,Davenport Field,Finley Stadium
ATTACH;FMTTYPE=image/png:https://finleystadium.com/wp-content/uploads/2025/04/Union-2-1.png
ORGANIZER;CN="Chattanooga Football Club":MAILTO:info@chattanoogafc.com
END:VEVENT
BEGIN:VEVENT
DTSTART;TZID=UTC:20250419T180000
DTEND;TZID=UTC:20250419T220000
DTSTAMP:20260424T173517
CREATED:20250214T161059Z
LAST-MODIFIED:20250214T161059Z
UID:10001478-1745085600-1745100000@finleystadium.com
SUMMARY:Chattanooga FC vs. Crown Legacy FC
DESCRIPTION:Kickoff @ 7:00pm EST & Gates Open @ 6:00pm EST
URL:https://finleystadium.com/event/chattanooga-fc-vs-crown-legacy-fc/
LOCATION:Finley Stadium | Davenport Field\, 1826 Reggie White Blvd\, Chattanooga\, TN\, 37408\, United States
CATEGORIES:Chattanooga Football Club,Finley Stadium
ATTACH;FMTTYPE=image/png:https://finleystadium.com/wp-content/uploads/2025/02/CFC-vs.-Crown-Legacy-.png
ORGANIZER;CN="Chattanooga Football Club":MAILTO:info@chattanoogafc.com
END:VEVENT
BEGIN:VEVENT
DTSTART;TZID=UTC:20250405T180000
DTEND;TZID=UTC:20250405T220000
DTSTAMP:20260424T173518
CREATED:20250212T175201Z
LAST-MODIFIED:20250212T175215Z
UID:10001477-1743876000-1743890400@finleystadium.com
SUMMARY:Chattanooga FC vs. Orlando City B
DESCRIPTION:Kickoff @ 7:00pm Gates Open @ 6:00pm
URL:https://finleystadium.com/event/chattanooga-fc-vs-orlando-city-b/
LOCATION:Finley Stadium | Davenport Field\, 1826 Reggie White Blvd\, Chattanooga\, TN\, 37408\, United States
CATEGORIES:Chattanooga Football Club,Davenport Field,Finley Stadium
ATTACH;FMTTYPE=image/png:https://finleystadium.com/wp-content/uploads/2025/02/CFC-vs-Orlando-B.png
ORGANIZER;CN="Chattanooga Football Club":MAILTO:info@chattanoogafc.com
END:VEVENT
BEGIN:VEVENT
DTSTART;TZID=UTC:20250402T173000
DTEND;TZID=UTC:20250402T213000
DTSTAMP:20260424T173518
CREATED:20250320T210058Z
LAST-MODIFIED:20250402T203235Z
UID:10001485-1743615000-1743629400@finleystadium.com
SUMMARY:U.S. Open Cup Chattanooga FC vs. Chattanooga Red Wolves
DESCRIPTION:For the first time ever the Chattanooga Football Club will play the Chattanooga Red Wolves at Finley Stadium! Kickoff @ 7:00pm EST and Gates Open @ 5:30pm EST \nParking Rates: $12 South Lot & $1o North & Pavilion Lots \nPARKING MAP: \nFinley Stadium – Overflow Parking
URL:https://finleystadium.com/event/u-s-open-cup-chattanooga-fc-vs-chattanooga-red-wolves/
LOCATION:Finley Stadium | Davenport Field\, 1826 Reggie White Blvd\, Chattanooga\, TN\, 37408\, United States
CATEGORIES:Chattanooga Football Club,Davenport Field,Finley Stadium
ATTACH;FMTTYPE=image/jpeg:https://finleystadium.com/wp-content/uploads/2025/03/US-Open-Cup-RD-2-vs-Red-Wolves-16x9-1.jpeg
ORGANIZER;CN="Chattanooga Football Club":MAILTO:info@chattanoogafc.com
END:VEVENT
BEGIN:VEVENT
DTSTART;TZID=UTC:20250319T173000
DTEND;TZID=UTC:20250319T203000
DTSTAMP:20260424T173518
CREATED:20250206T190437Z
LAST-MODIFIED:20250212T161750Z
UID:10001465-1742405400-1742416200@finleystadium.com
SUMMARY:Chattanooga FC vs. Corpus Christi FC US Open Cup
DESCRIPTION:Lamar Hunt US Open Cup Round 1 Kickoff @ 6:30 PM EST & Gates Open @ 5:30 PM EST
URL:https://finleystadium.com/event/cfc-m-vs-corpus-christi-fc-us-open-cup/
LOCATION:Finley Stadium | Davenport Field\, 1826 Reggie White Blvd\, Chattanooga\, TN\, 37408\, United States
CATEGORIES:Chattanooga Football Club,Davenport Field,Finley Stadium
ATTACH;FMTTYPE=image/png:https://finleystadium.com/wp-content/uploads/2025/02/US-Open-Cup-2025.png
ORGANIZER;CN="Chattanooga Football Club":MAILTO:info@chattanoogafc.com
END:VEVENT
BEGIN:VEVENT
DTSTART;TZID=UTC:20250315T180000
DTEND;TZID=UTC:20250315T220000
DTSTAMP:20260424T173518
CREATED:20250206T161600Z
LAST-MODIFIED:20250313T142203Z
UID:10001464-1742061600-1742076000@finleystadium.com
SUMMARY:Chattanooga FC vs. Huntsville FC
DESCRIPTION:Home Opener! Kickoff @ 1:00 PM EST & Gates Open @ 12:00 PM EST
URL:https://finleystadium.com/event/cfc-m-vs-huntsville-fc/
LOCATION:Finley Stadium | Davenport Field\, 1826 Reggie White Blvd\, Chattanooga\, TN\, 37408\, United States
CATEGORIES:Chattanooga Football Club
ATTACH;FMTTYPE=image/png:https://finleystadium.com/wp-content/uploads/2025/02/March-15-CFC-vs-Huntsville-1.png
ORGANIZER;CN="Chattanooga Football Club":MAILTO:info@chattanoogafc.com
END:VEVENT
BEGIN:VEVENT
DTSTART;TZID=UTC:20250228T183000
DTEND;TZID=UTC:20250228T223000
DTSTAMP:20260424T173518
CREATED:20250206T155237Z
LAST-MODIFIED:20250212T161635Z
UID:10001463-1740767400-1740781800@finleystadium.com
SUMMARY:Chattanooga FC vs TN Tiempo Season Scrimmage *Open to Season Ticket Holders Only
DESCRIPTION:CFC Season Ticket Holders Only* Kickoff @ 7:30 pm EST & Gates @ 6:30 pm EST
URL:https://finleystadium.com/event/cfc-m-vs-tn-tiempo-open-scrimmage/
LOCATION:Finley Stadium | Davenport Field\, 1826 Reggie White Blvd\, Chattanooga\, TN\, 37408\, United States
CATEGORIES:Chattanooga Football Club
ATTACH;FMTTYPE=image/png:https://finleystadium.com/wp-content/uploads/2024/04/Chattanooga-fc-logo_300x300_large-e1712064843175.png
ORGANIZER;CN="Chattanooga Football Club":MAILTO:info@chattanoogafc.com
END:VEVENT
BEGIN:VEVENT
DTSTART;TZID=UTC:20250222T140000
DTEND;TZID=UTC:20250222T170000
DTSTAMP:20260424T173518
CREATED:20250206T154418Z
LAST-MODIFIED:20250212T161526Z
UID:10001462-1740232800-1740243600@finleystadium.com
SUMMARY:Chattanooga FC vs. University of North Carolina Open Scrimmage
DESCRIPTION:Kick0ff @ 3:00 pm EST & Gates Open @ 2:00 pm EST
URL:https://finleystadium.com/event/cfc-m-vs-university-of-north-carolina-open-scrimmage/
LOCATION:Finley Stadium | Davenport Field\, 1826 Reggie White Blvd\, Chattanooga\, TN\, 37408\, United States
CATEGORIES:Chattanooga Football Club,Davenport Field,Finley Stadium
ATTACH;FMTTYPE=image/png:https://finleystadium.com/wp-content/uploads/2025/02/UNC-vs-CFC-M.png
ORGANIZER;CN="Chattanooga Football Club":MAILTO:info@chattanoogafc.com
END:VEVENT
BEGIN:VEVENT
DTSTART;TZID=UTC:20250215T140000
DTEND;TZID=UTC:20250215T170000
DTSTAMP:20260424T173518
CREATED:20250206T154133Z
LAST-MODIFIED:20250212T161457Z
UID:10001461-1739628000-1739638800@finleystadium.com
SUMMARY:Chattanooga FC vs. One Knox Open Scrimmage
DESCRIPTION:Kick0ff @ 3:00 pm EST & Gates Open @ 2:00 pm EST
URL:https://finleystadium.com/event/cfc-m-vs-one-knox-open-scrimmage/
LOCATION:Finley Stadium | Davenport Field\, 1826 Reggie White Blvd\, Chattanooga\, TN\, 37408\, United States
CATEGORIES:Chattanooga Football Club
ATTACH;FMTTYPE=image/png:https://finleystadium.com/wp-content/uploads/2025/02/One-Knox-vs-CFC.png
ORGANIZER;CN="Chattanooga Football Club":MAILTO:info@chattanoogafc.com
END:VEVENT
BEGIN:VEVENT
DTSTART;TZID=UTC:20250125T133000
DTEND;TZID=UTC:20250125T170000
DTSTAMP:20260424T173518
CREATED:20250109T191404Z
LAST-MODIFIED:20250119T133353Z
UID:10001460-1737811800-1737824400@finleystadium.com
SUMMARY:Chattanooga FC vs. Atlanta United Preseason Friendly
DESCRIPTION:Chattanooga Football Club will host MLS side Atlanta United for the third time in club history. The game is scheduled for Saturday\, January 25 with a 3:00 p.m. EST kickoff at Finley Stadium in Chattanooga. Gates Open @ 1:30 p.m. EST \n\n\nTickets are now on sale to the public. \nParking Lots Open at 12:00pm to the public. South VIP Lot= $15 Cash or Card. North Gold Lot and Pavilion Green Lot= $10 Cash or Card. \nTo ensure the safety of our guests\, neighbors\, teams\, and staff the following security protocols will be strictly adhered to in order to ensure a safe and enjoyable environment for all. \nThe Clear Bag Policy\, bag searches\, and individual metal detection can be expected at all ticketed events at Finley Stadium upon entry. The following items are strictly prohibited from entry: \n\nAirhorns (Manual and Non-Manual)\nAnything that would obstruct another patron’s view\nArtificial Noise Makers (Cowbells Are Allowed)\nCameras with detachable lenses\nConfetti or Confetti Cannons\nDrones (Finley Stadium’s campus is a NO FLY ZONE)\nFolding chairs\nFireworks\nFull Umbrellas (collapsible umbrellas are acceptable)\nMegaphone\nNo Weapons of any kind\, including pocket knives\nNo animals\, except those performing a service\nNon-clear bags larger than 4.5″ by 6.5″\nOutside food or drinks\nSelfie Sticks\nSirens\nSpeakers\nStadium chairs with pockets\nWhistles
URL:https://finleystadium.com/event/mls-next-pro-cfc-m-vs-mls-atlanta-united-preseason-friendly/
LOCATION:Finley Stadium | Davenport Field\, 1826 Reggie White Blvd\, Chattanooga\, TN\, 37408\, United States
ATTACH;FMTTYPE=image/png:https://finleystadium.com/wp-content/uploads/2025/01/ATL-UNT-vs-CFC-.png
ORGANIZER;CN="Chattanooga Football Club":MAILTO:info@chattanoogafc.com
END:VEVENT
BEGIN:VEVENT
DTSTART;TZID=UTC:20241006T120000
DTEND;TZID=UTC:20241006T160000
DTSTAMP:20260424T173518
CREATED:20240913T171801Z
LAST-MODIFIED:20240913T171801Z
UID:10000746-1728216000-1728230400@finleystadium.com
SUMMARY:CFC Men's vs. NY Redbulls II
DESCRIPTION:Gates open @ 12pm/ Kickoff @ 1pm \n 
URL:https://finleystadium.com/event/cfc-mens-vs-ny-redbulls-ii/
LOCATION:Finley Stadium | Davenport Field\, 1826 Reggie White Blvd\, Chattanooga\, TN\, 37408\, United States
CATEGORIES:Chattanooga Football Club
ATTACH;FMTTYPE=image/png:https://finleystadium.com/wp-content/uploads/2024/04/Chattanooga-fc-logo_300x300_large-e1712064843175.png
ORGANIZER;CN="Chattanooga Football Club":MAILTO:info@chattanoogafc.com
END:VEVENT
BEGIN:VEVENT
DTSTART;TZID=UTC:20240908T140000
DTEND;TZID=UTC:20240908T180000
DTSTAMP:20260424T173518
CREATED:20240705T143604Z
LAST-MODIFIED:20240705T143604Z
UID:10000735-1725804000-1725818400@finleystadium.com
SUMMARY:CFC Men's vs. Columbus Crew 2
DESCRIPTION:GATES OPEN AT 2PM/KICKOFF AT 3PM
URL:https://finleystadium.com/event/cfc-mens-vs-columbus-crew-2/
LOCATION:Finley Stadium | Davenport Field\, 1826 Reggie White Blvd\, Chattanooga\, TN\, 37408\, United States
CATEGORIES:Chattanooga Football Club
ATTACH;FMTTYPE=image/png:https://finleystadium.com/wp-content/uploads/2024/04/Chattanooga-fc-logo_300x300_large-e1712064843175.png
ORGANIZER;CN="Chattanooga Football Club":MAILTO:info@chattanoogafc.com
END:VEVENT
BEGIN:VEVENT
DTSTART;TZID=UTC:20240901T180000
DTEND;TZID=UTC:20240901T210000
DTSTAMP:20260424T173518
CREATED:20240705T142024Z
LAST-MODIFIED:20240814T185053Z
UID:10000731-1725213600-1725224400@finleystadium.com
SUMMARY:CFC Men's vs. Atlanta United II
DESCRIPTION:FIREWORKS SHOW POST-MATCH! \nGATES OPEN AT 6PM/ KICKOFF AT 7PM
URL:https://finleystadium.com/event/cfc-mens-vs-atlanta-united-ii/
LOCATION:Finley Stadium | Davenport Field\, 1826 Reggie White Blvd\, Chattanooga\, TN\, 37408\, United States
CATEGORIES:Chattanooga Football Club
ATTACH;FMTTYPE=image/png:https://finleystadium.com/wp-content/uploads/2024/04/Chattanooga-fc-logo_300x300_large-e1712064843175.png
ORGANIZER;CN="Chattanooga Football Club":MAILTO:info@chattanoogafc.com
END:VEVENT
BEGIN:VEVENT
DTSTART;TZID=UTC:20240803T180000
DTEND;TZID=UTC:20240803T220000
DTSTAMP:20260424T173518
CREATED:20240703T164900Z
LAST-MODIFIED:20240703T165752Z
UID:10000718-1722708000-1722722400@finleystadium.com
SUMMARY:CFC Mens vs. Toronto FC II
DESCRIPTION:GATES OPEN AT 6:00 PM/ KICKOFF AT 7:00 PM
URL:https://finleystadium.com/event/cfc-mens-vs-toronto-fc-ii/
LOCATION:Finley Stadium | Davenport Field\, 1826 Reggie White Blvd\, Chattanooga\, TN\, 37408\, United States
CATEGORIES:Chattanooga Football Club
ATTACH;FMTTYPE=image/png:https://finleystadium.com/wp-content/uploads/2024/04/Chattanooga-fc-logo_300x300_large-e1712064843175.png
ORGANIZER;CN="Chattanooga Football Club":MAILTO:info@chattanoogafc.com
END:VEVENT
BEGIN:VEVENT
DTSTART;TZID=UTC:20240727T180000
DTEND;TZID=UTC:20240727T220000
DTSTAMP:20260424T173518
CREATED:20240603T173517Z
LAST-MODIFIED:20240603T173517Z
UID:10000711-1722103200-1722117600@finleystadium.com
SUMMARY:Chattanooga Football Club vs. Orlando City B
DESCRIPTION:GATES OPEN 6:00PM /KICKOFF 7:00PM
URL:https://finleystadium.com/event/chattanooga-football-club-vs-orlando-city-b-2/
LOCATION:Finley Stadium | Davenport Field\, 1826 Reggie White Blvd\, Chattanooga\, TN\, 37408\, United States
CATEGORIES:Chattanooga Football Club,Davenport Field,Finley Stadium
ATTACH;FMTTYPE=image/png:https://finleystadium.com/wp-content/uploads/2024/04/Chattanooga-fc-logo_300x300_large-e1712064843175.png
ORGANIZER;CN="Chattanooga Football Club":MAILTO:info@chattanoogafc.com
END:VEVENT
BEGIN:VEVENT
DTSTART;TZID=UTC:20240706T180000
DTEND;TZID=UTC:20240706T220000
DTSTAMP:20260424T173518
CREATED:20240529T210429Z
LAST-MODIFIED:20240529T210429Z
UID:10000707-1720288800-1720303200@finleystadium.com
SUMMARY:Chattanooga Football Club vs. Crown Legacy FC
DESCRIPTION:GATES OPEN 6:00pm / KICKOFF 7:00pm
URL:https://finleystadium.com/event/chattanooga-football-club-vs-crown-legacy-fc/
LOCATION:Finley Stadium | Davenport Field\, 1826 Reggie White Blvd\, Chattanooga\, TN\, 37408\, United States
CATEGORIES:Chattanooga Football Club,Davenport Field,Finley Stadium
ATTACH;FMTTYPE=image/png:https://finleystadium.com/wp-content/uploads/2024/04/Chattanooga-fc-logo_300x300_large-e1712064843175.png
ORGANIZER;CN="Chattanooga Football Club":MAILTO:info@chattanoogafc.com
END:VEVENT
BEGIN:VEVENT
DTSTART;TZID=UTC:20240623T170000
DTEND;TZID=UTC:20240623T210000
DTSTAMP:20260424T173518
CREATED:20240529T194033Z
LAST-MODIFIED:20240529T194033Z
UID:10000702-1719162000-1719176400@finleystadium.com
SUMMARY:Chattanooga Football Club Women vs. Decatur
DESCRIPTION:GATES OPEN AT 5PM KICKOFF AT 6PM
URL:https://finleystadium.com/event/chattanooga-football-club-women-vs-decatur/
LOCATION:Finley Stadium | Davenport Field\, 1826 Reggie White Blvd\, Chattanooga\, TN\, 37408\, United States
CATEGORIES:Chattanooga Football Club,Finley Stadium
ATTACH;FMTTYPE=image/png:https://finleystadium.com/wp-content/uploads/2024/04/Chattanooga-fc-logo_300x300_large-e1712064843175.png
ORGANIZER;CN="Chattanooga Football Club":MAILTO:info@chattanoogafc.com
END:VEVENT
BEGIN:VEVENT
DTSTART;TZID=UTC:20240622T180000
DTEND;TZID=UTC:20240622T220000
DTSTAMP:20260424T173518
CREATED:20240529T192258Z
LAST-MODIFIED:20240529T192258Z
UID:10000701-1719079200-1719093600@finleystadium.com
SUMMARY:Chattanooga Football Club vs.  Carolina Core FC
DESCRIPTION:GATES OPEN 6:00pm / KICKOFF 7:00pm
URL:https://finleystadium.com/event/chattanooga-football-club-vs-carolina-core-fc/
LOCATION:Finley Stadium | Davenport Field\, 1826 Reggie White Blvd\, Chattanooga\, TN\, 37408\, United States
CATEGORIES:Chattanooga Football Club
ATTACH;FMTTYPE=image/png:https://finleystadium.com/wp-content/uploads/2024/04/Chattanooga-fc-logo_300x300_large-e1712064843175.png
ORGANIZER;CN="Chattanooga Football Club":MAILTO:info@chattanoogafc.com
END:VEVENT
END:VCALENDAR